BEGIN:VCALENDAR
VERSION:2.0
PRODID:-//Homosexuelle Initiative (HOSI) Wien - ECPv5.16.4//NONSGML v1.0//EN
CALSCALE:GREGORIAN
METHOD:PUBLISH
X-ORIGINAL-URL:https://archiv.hosiwien.at
X-WR-CALDESC:Events for Homosexuelle Initiative (HOSI) Wien
REFRESH-INTERVAL;VALUE=DURATION:PT1H
X-Robots-Tag:noindex
X-PUBLISHED-TTL:PT1H
BEGIN:VTIMEZONE
TZID:Europe/Vienna
BEGIN:DAYLIGHT
TZOFFSETFROM:+0100
TZOFFSETTO:+0200
TZNAME:CEST
DTSTART:20220327T010000
END:DAYLIGHT
BEGIN:STANDARD
TZOFFSETFROM:+0200
TZOFFSETTO:+0100
TZNAME:CET
DTSTART:20221030T010000
END:STANDARD
END:VTIMEZONE
BEGIN:VEVENT
DTSTART;TZID=Europe/Vienna:20220416T193000
DTEND;TZID=Europe/Vienna:20220417T000000
DTSTAMP:20260420T115629
CREATED:20220112T145724Z
LAST-MODIFIED:20220429T103242Z
UID:91261-1650137400-1650153600@archiv.hosiwien.at
SUMMARY:4 Drags & 1 Quiz!
DESCRIPTION:The Lipstick Ball presents:\n4 Drags & 1 Quiz!\nEin trivial lustiger Quiz-Abend moderiert von Lexi Labor\, Miss Patty Fanny\, Uschi Straight und Sassica Rabbit.\nBei diesem Abend tretet ihr im Team (bis zu 6 Personen) gegen andere Teams an. In den heiligen Hallen des Guggs werden euch Fragen gestellt und das Team mit den meisten richtigen Fragen gewinnt am Ende einen tollen Preis  – Pubquiz Style nur glamouröser!\nKeine Sorge: Wenn ihr zu wenige für ein Team seid\, dann finden wir eines für euch! Also keine falsche Scheu! Spoiler: there will be FREE Shots!\nHard Facts:\n16.04.2022\nEinlass 18:30\nBeginn: 19:30\nGugg – Heumühlgasse 14\, 1040 Wien\n15€ pro Person – https://shop.eventjet.at/thelipstickball\nGet your tickets and join us!\nTicketverkauf startet am 25.3.2022 um 14:30 \nBitte beachtet die aktuell gültigen COVID-Maßnahmen.\n\nWir freuen uns auf euch!\nBussi\n\n—\nEs gelten die Corona-Richtlinien für Gastronomie bzw. Veranstaltungen.\n\nAktuell: 2G-Regel\nEmpfehlung zur Registrierung für alle Gäste.\nÄnderungen in den Verordnungen können sich noch ergeben.
URL:https://archiv.hosiwien.at/event/4-drags-1-quiz/2022-04-16/
LOCATION:Gugg\, Heumühlgasse 14\, Wien\, 1040
CATEGORIES:kulturelle Veranstaltung
ATTACH;FMTTYPE=image/jpeg:https://archiv.hosiwien.at/img/image/2022/277161818_2850290091938740_5183638336206728355_n.jpg
ORGANIZER;CN="Kulturverein%20The%20Lipstick%20Ball":MAILTO:thelipstickball@gmail.com
GEO:48.1961598;16.3617969
X-APPLE-STRUCTURED-LOCATION;VALUE=URI;X-ADDRESS=Gugg Heumühlgasse 14 Wien 1040;X-APPLE-RADIUS=500;X-TITLE=Heumühlgasse 14:geo:16.3617969,48.1961598
END:VEVENT
END:VCALENDAR