BEGIN:VCALENDAR
VERSION:2.0
PRODID:-//Homosexuelle Initiative (HOSI) Wien - ECPv5.16.4//NONSGML v1.0//EN
CALSCALE:GREGORIAN
METHOD:PUBLISH
X-ORIGINAL-URL:https://archiv.hosiwien.at
X-WR-CALDESC:Events for Homosexuelle Initiative (HOSI) Wien
REFRESH-INTERVAL;VALUE=DURATION:PT1H
X-Robots-Tag:noindex
X-PUBLISHED-TTL:PT1H
BEGIN:VTIMEZONE
TZID:Europe/Vienna
BEGIN:DAYLIGHT
TZOFFSETFROM:+0100
TZOFFSETTO:+0200
TZNAME:CEST
DTSTART:20220327T010000
END:DAYLIGHT
BEGIN:STANDARD
TZOFFSETFROM:+0200
TZOFFSETTO:+0100
TZNAME:CET
DTSTART:20221030T010000
END:STANDARD
END:VTIMEZONE
BEGIN:VEVENT
DTSTART;TZID=Europe/Vienna:20220427T090000
DTEND;TZID=Europe/Vienna:20220427T160000
DTSTAMP:20260420T115719
CREATED:20220126T135747Z
LAST-MODIFIED:20220126T135747Z
UID:91030-1651050000-1651075200@archiv.hosiwien.at
SUMMARY:Leitungsklausur Integration Wien
DESCRIPTION:geschlossene Veranstaltung. \nLeitungsklausur der Projektleiter*innen des Vereins Integration Wien. \nVerantwortlich: Stefanie Hiller
URL:https://archiv.hosiwien.at/event/leitungsklausur-integration-wien/
LOCATION:Gugg\, Heumühlgasse 14\, Wien\, 1040
CATEGORIES:Privat
ATTACH;FMTTYPE=image/png:https://archiv.hosiwien.at/img/image/2022/download___iwi_logo.png
GEO:48.1961598;16.3617969
X-APPLE-STRUCTURED-LOCATION;VALUE=URI;X-ADDRESS=Gugg Heumühlgasse 14 Wien 1040;X-APPLE-RADIUS=500;X-TITLE=Heumühlgasse 14:geo:16.3617969,48.1961598
END:VEVENT
BEGIN:VEVENT
DTSTART;TZID=Europe/Vienna:20220427T190000
DTEND;TZID=Europe/Vienna:20220427T210000
DTSTAMP:20260420T115719
CREATED:20210831T083841Z
LAST-MODIFIED:20210831T083841Z
UID:90859-1651086000-1651093200@archiv.hosiwien.at
SUMMARY:Resis.danse-Tanzworkshop
DESCRIPTION:Alle Informationen zu den Workshops auf: www.resisdanse.at
URL:https://archiv.hosiwien.at/event/resis-danse-tanzworkshop-11-2022-01-19/2022-04-27/
LOCATION:Gugg\, Heumühlgasse 14\, Wien\, 1040
CATEGORIES:Gruppen
ATTACH;FMTTYPE=image/png:https://archiv.hosiwien.at/img/image/2016/resisdanse-logo-trans.png
GEO:48.1961598;16.3617969
X-APPLE-STRUCTURED-LOCATION;VALUE=URI;X-ADDRESS=Gugg Heumühlgasse 14 Wien 1040;X-APPLE-RADIUS=500;X-TITLE=Heumühlgasse 14:geo:16.3617969,48.1961598
END:VEVENT
END:VCALENDAR