BEGIN:VCALENDAR
VERSION:2.0
PRODID:-//Homosexuelle Initiative (HOSI) Wien - ECPv5.16.4//NONSGML v1.0//EN
CALSCALE:GREGORIAN
METHOD:PUBLISH
X-WR-CALNAME:Homosexuelle Initiative (HOSI) Wien
X-ORIGINAL-URL:https://archiv.hosiwien.at
X-WR-CALDESC:Events for Homosexuelle Initiative (HOSI) Wien
REFRESH-INTERVAL;VALUE=DURATION:PT1H
X-Robots-Tag:noindex
X-PUBLISHED-TTL:PT1H
BEGIN:VTIMEZONE
TZID:Europe/Vienna
BEGIN:DAYLIGHT
TZOFFSETFROM:+0100
TZOFFSETTO:+0200
TZNAME:CEST
DTSTART:20220327T010000
END:DAYLIGHT
BEGIN:STANDARD
TZOFFSETFROM:+0200
TZOFFSETTO:+0100
TZNAME:CET
DTSTART:20221030T010000
END:STANDARD
END:VTIMEZONE
BEGIN:VEVENT
DTSTART;TZID=Europe/Vienna:20220429T160000
DTEND;TZID=Europe/Vienna:20220429T200000
DTSTAMP:20260420T140458
CREATED:20220426T110932Z
LAST-MODIFIED:20220503T162838Z
UID:91554-1651248000-1651262400@archiv.hosiwien.at
SUMMARY:Grätzelfest zur Einweihung des Helga-Pankratz-Platzes
DESCRIPTION:Der Helga-Pankratz-Platz an der Ecke Strobachgasse/Schönbrunner Straße wird feierlich eingeweiht\, dazu laden die HOSI Wien und die Bezirksvorstehung Margareten zu einem Grätzelfest ein!\n\n\nAb 16:30 Uhr: Eröffnung und Gedenken an Helga Pankratz \n\n\nAb 17:00 Uhr: Musik und Living Books: Menschen aus der LGBTIQ-Community sind als Living Books für Fragen und zum Geschichten erzählen auf dem Platz unterwegs. Einige von ihnen haben Helga noch gekannt und erzählen von der Pionierin der Lesbenbewegung.\n\n\nDanach: After-Party im Gugg
URL:https://archiv.hosiwien.at/event/graetzelfest-zur-einweihung-des-helga-pankratz-platzes/
LOCATION:Helga-Pankratz-Platz\, Strobachgasse Ecke Schönbrunner Straße\, Wien\, 1050
CATEGORIES:cultural event,kulturelle Veranstaltung,Party
ATTACH;FMTTYPE=image/jpeg:https://archiv.hosiwien.at/img/image/2022/278608528_10159875073741420_3064892350520520939_n-1.jpg
ORGANIZER;CN="HOSI%20Wien":MAILTO:office@archiv.hosiwien.at
END:VEVENT
BEGIN:VEVENT
DTSTART;TZID=Europe/Vienna:20220429T164500
DTEND;TZID=Europe/Vienna:20220429T210000
DTSTAMP:20260420T140458
CREATED:20220503T161332Z
LAST-MODIFIED:20220518T163739Z
UID:91678-1651250700-1651266000@archiv.hosiwien.at
SUMMARY:Resis.danse-Tanzworkshop
DESCRIPTION:Die Tanzworkshops finden von 16:45 bis 18:45 und von 19:00 bis 21:00 statt.\nAlle Informationen zu den Workshops auf: www.resisdanse.at  \nAb 21 Uhr findet im Anschluss der Tanzabend statt zu dem alle tanzbegeisterten Frauen herzlich eingeladen sind. \nWir weisen darauf hin\, dass aktuell die 2G+ Regel gilt (geimpft/genesen plus gültiger PCR-Test).\nAufgrund der Corona-Lage kann es dazu kommen\, dass einzelne oder alle Workshops (auch kurzfristig) abgesagt werden.\nWir bitten um Verständnis. \n 
URL:https://archiv.hosiwien.at/event/resis-danse-tanzworkshop-12/2022-04-29/
LOCATION:Gugg\, Heumühlgasse 14\, Wien\, 1040
CATEGORIES:Gruppen
ATTACH;FMTTYPE=image/png:https://archiv.hosiwien.at/img/image/2016/resisdanse-logo-trans.png
ORGANIZER;CN="Resis.danse%20-%20FrauenTanzClub":MAILTO:tanzclub@resisdanse.at
GEO:48.1961598;16.3617969
X-APPLE-STRUCTURED-LOCATION;VALUE=URI;X-ADDRESS=Gugg Heumühlgasse 14 Wien 1040;X-APPLE-RADIUS=500;X-TITLE=Heumühlgasse 14:geo:16.3617969,48.1961598
END:VEVENT
END:VCALENDAR