BEGIN:VCALENDAR
VERSION:2.0
PRODID:-//Homosexuelle Initiative (HOSI) Wien - ECPv5.16.4//NONSGML v1.0//EN
CALSCALE:GREGORIAN
METHOD:PUBLISH
X-ORIGINAL-URL:https://archiv.hosiwien.at
X-WR-CALDESC:Events for Homosexuelle Initiative (HOSI) Wien
REFRESH-INTERVAL;VALUE=DURATION:PT1H
X-Robots-Tag:noindex
X-PUBLISHED-TTL:PT1H
BEGIN:VTIMEZONE
TZID:Europe/Vienna
BEGIN:DAYLIGHT
TZOFFSETFROM:+0100
TZOFFSETTO:+0200
TZNAME:CEST
DTSTART:20220327T010000
END:DAYLIGHT
BEGIN:STANDARD
TZOFFSETFROM:+0200
TZOFFSETTO:+0100
TZNAME:CET
DTSTART:20221030T010000
END:STANDARD
END:VTIMEZONE
BEGIN:VEVENT
DTSTART;TZID=Europe/Vienna:20220506T130000
DTEND;TZID=Europe/Vienna:20220506T160000
DTSTAMP:20260420T141152
CREATED:20220328T130854Z
LAST-MODIFIED:20220929T080655Z
UID:93156-1651842000-1651852800@archiv.hosiwien.at
SUMMARY:Contact Improvisation // FINTAQ* Jam
DESCRIPTION:This is an anarchist\, queer-feminist Contact Improvisation space for FINTAQ* (women\, inter\, non-binary\, trans*gender\, agender\, queergender people) only. \nThe jam space is open to exploring human.animal – contact at eye level\, (re)finding inner guidance and pleasure in moving our bodies\, nourishing our agency and connection to ourselves\, others\, space and ground\, investigating our changing roles and places in a collective web\, exhaling_defecating indoctrinated patriarcal shit. \n\n\nDie Veranstaltung ist offen für alle FINTAQ* Personen\, also wenn wer dazukommen mag\, dann sehr gerne!\nBitte aber nur getestet kommen!\nOrganisation: Levi Ezra Mühlbacher\, Alen Somanarchy \n 
URL:https://archiv.hosiwien.at/event/flintaq-contact-impro-jam/2022-05-06/
LOCATION:Gugg – Giovannis Room\, Heumühlgasse 14\, Wien\, 1040\, Österreich
CATEGORIES:Gruppen
GEO:48.1961598;16.3617969
X-APPLE-STRUCTURED-LOCATION;VALUE=URI;X-ADDRESS=Gugg – Giovannis Room Heumühlgasse 14 Wien 1040 Österreich;X-APPLE-RADIUS=500;X-TITLE=Heumühlgasse 14:geo:16.3617969,48.1961598
END:VEVENT
BEGIN:VEVENT
DTSTART;TZID=Europe/Vienna:20220506T164500
DTEND;TZID=Europe/Vienna:20220506T210000
DTSTAMP:20260420T141152
CREATED:20220503T161332Z
LAST-MODIFIED:20220518T163739Z
UID:91679-1651855500-1651870800@archiv.hosiwien.at
SUMMARY:Resis.danse-Tanzworkshop
DESCRIPTION:Die Tanzworkshops finden von 16:45 bis 18:45 und von 19:00 bis 21:00 statt.\nAlle Informationen zu den Workshops auf: www.resisdanse.at  \nAb 21 Uhr findet im Anschluss der Tanzabend statt zu dem alle tanzbegeisterten Frauen herzlich eingeladen sind. \nWir weisen darauf hin\, dass aktuell die 2G+ Regel gilt (geimpft/genesen plus gültiger PCR-Test).\nAufgrund der Corona-Lage kann es dazu kommen\, dass einzelne oder alle Workshops (auch kurzfristig) abgesagt werden.\nWir bitten um Verständnis. \n 
URL:https://archiv.hosiwien.at/event/resis-danse-tanzworkshop-12/2022-05-06/
LOCATION:Gugg\, Heumühlgasse 14\, Wien\, 1040
CATEGORIES:Gruppen
ATTACH;FMTTYPE=image/png:https://archiv.hosiwien.at/img/image/2016/resisdanse-logo-trans.png
ORGANIZER;CN="Resis.danse%20-%20FrauenTanzClub":MAILTO:tanzclub@resisdanse.at
GEO:48.1961598;16.3617969
X-APPLE-STRUCTURED-LOCATION;VALUE=URI;X-ADDRESS=Gugg Heumühlgasse 14 Wien 1040;X-APPLE-RADIUS=500;X-TITLE=Heumühlgasse 14:geo:16.3617969,48.1961598
END:VEVENT
END:VCALENDAR