BEGIN:VCALENDAR
VERSION:2.0
PRODID:-//Homosexuelle Initiative (HOSI) Wien - ECPv5.16.4//NONSGML v1.0//EN
CALSCALE:GREGORIAN
METHOD:PUBLISH
X-ORIGINAL-URL:https://archiv.hosiwien.at
X-WR-CALDESC:Events for Homosexuelle Initiative (HOSI) Wien
REFRESH-INTERVAL;VALUE=DURATION:PT1H
X-Robots-Tag:noindex
X-PUBLISHED-TTL:PT1H
BEGIN:VTIMEZONE
TZID:Europe/Vienna
BEGIN:DAYLIGHT
TZOFFSETFROM:+0100
TZOFFSETTO:+0200
TZNAME:CEST
DTSTART:20220327T010000
END:DAYLIGHT
BEGIN:STANDARD
TZOFFSETFROM:+0200
TZOFFSETTO:+0100
TZNAME:CET
DTSTART:20221030T010000
END:STANDARD
END:VTIMEZONE
BEGIN:VEVENT
DTSTART;TZID=Europe/Vienna:20220515T080000
DTEND;TZID=Europe/Vienna:20220515T173000
DTSTAMP:20260420T130106
CREATED:20220504T154650Z
LAST-MODIFIED:20220504T155108Z
UID:91722-1652601600-1652635800@archiv.hosiwien.at
SUMMARY:Fahrt zur Internationalen Gedenk- und Befreiungsfeier in der KZ-Gedenkstätte Mauthausen
DESCRIPTION:Am Sonntag\, den 15. Mai 2022\, organisieren wir eine Fahrt in die KZ Gedenkstätte Mauthausen anlässlich der dort stattfindenden Internationalen Gedenk- und Befreiungsfeier.\nDiese erinnert an die 77. Wiederkehr der Befreiung des KZ Mauthausen.\nDie diesjährigen Feierlichkeiten widmen sich dem Thema „Politischer Widerstand“.\nMehr zur Anreise \nInformationen zur Befreiungsfeier findet ihr hier.\nInformationen zur KZ Gedenkstätte findet ihr hier.
URL:https://archiv.hosiwien.at/event/fahrt-zur-internationalen-gedenk-und-befreiungsfeier-in-der-kz-gedenkstaette-mauthausen/
LOCATION:KZ-Gedenkstätte Mauthausen\, Erinnerungsstraße 1\, Mauthausen\, Oberösterreich\, 4310\, Österreich
CATEGORIES:cultural event,kulturelle Veranstaltung
ATTACH;FMTTYPE=image/jpeg:https://archiv.hosiwien.at/img/image/2022/Bild2.jpg
END:VEVENT
BEGIN:VEVENT
DTSTART;TZID=Europe/Vienna:20220515T150000
DTEND;TZID=Europe/Vienna:20220515T180000
DTSTAMP:20260420T130106
CREATED:20180313T130731Z
LAST-MODIFIED:20220217T105149Z
UID:91165-1652626800-1652637600@archiv.hosiwien.at
SUMMARY:Resis.danse-Tanzworkshop Fit für den Ball
DESCRIPTION:Survivaltraining fürs Tanzparkett für ALLE*\, z.B. für den kommenden Regenbogenball! Keine Vorkenntnisse notwendig! \nSa.\, 14. Mai 2022 14-17 Uhr und\nSo.\, 15. Mai 2022 15-18 Uhr \nAnmeldung und Infos unter: www.resisdanse.at bzw. tanzclub@resisdanse.at \nKosten: EUR 65\,00 für beide Abende\, bar zu zahlen vor Kursbeginn. \nHOSI-Wien-Mitglieder erhalten Ermäßigungen auf alle Tanzkurse!
URL:https://archiv.hosiwien.at/event/resis-danse-tanzworkshop-fit-fuer-den-ball-2-2022-05-14/2022-05-15/
LOCATION:Gugg – Giovannis Room\, Heumühlgasse 14\, Wien\, 1040\, Österreich
CATEGORIES:Gruppen
ATTACH;FMTTYPE=image/jpeg:https://archiv.hosiwien.at/img/resisdanse.jpg
ORGANIZER;CN="Resis.danse%20-%20FrauenTanzClub":MAILTO:tanzclub@resisdanse.at
GEO:48.1961598;16.3617969
X-APPLE-STRUCTURED-LOCATION;VALUE=URI;X-ADDRESS=Gugg – Giovannis Room Heumühlgasse 14 Wien 1040 Österreich;X-APPLE-RADIUS=500;X-TITLE=Heumühlgasse 14:geo:16.3617969,48.1961598
END:VEVENT
BEGIN:VEVENT
DTSTART;TZID=Europe/Vienna:20220515T190000
DTEND;TZID=Europe/Vienna:20220515T203000
DTSTAMP:20260420T130106
CREATED:20220503T140213Z
LAST-MODIFIED:20220505T072718Z
UID:91656-1652641200-1652646600@archiv.hosiwien.at
SUMMARY:Queer-Yoga
DESCRIPTION:Warum Queer-Yoga? Dafür gibt es so viele Gründe wie Farben im Regenbogen. Gemeinsam im Hier und Jetzt ankommen. Die Dinge\, deine Gefühle\, deinen Körper\, so anzunehmen\, wie sie sind. Achtsam mit sich und dem Umfeld umgehen. Die Abwehrkräfte stärken\, gerade in diesen Zeiten so wichtig. Tief einatmen\, tief ausatmen. Den Körper spüren\, alle Muskeln einsetzen vom kleinsten zum größten. Die Verbundenheit untereinander in einer Gruppe erleben. \nMatías ist unser Yogi\, der uns auf eine Reise durch die Welt von Hatha und Vinyasa Yoga mitnimmt. Du kannst mit diesen Begriffen nichts anfangen? Kein Problem\, er holt dich als Anfänger*in dort ab wo du gerade bist. Leitet an\, wo nötig\, gibt Tipps für leichtere Varianten und achtet bei jedem/r Teilnehmer*in auf die richtige Ausführung. \nIn jeder Yoga-Einheit werden deine Chakras\, Muskeln und Sehnen durch Dreh-\, Beuge- und Dehnübungen der verschiedenen Asanas aktiviert\, vom Kronen Chakra bis hin zu den Zehenspitzen. \nJede*r ist willkommen\, das Angebot richtet sich an alle LGBTIQs und ihre Freund*innen. \nBitte kommt in bequemer\, lockerer Kleidung und bringt eine eigene Yogamatte mit. \nEintritt: freie Spende \nDatum und Uhrzeit: am Sonntag\, 15.5. von 19:00 – 20:30. Achtung: eventuelle Terminänderungen sind möglich\, daher bitte immer vorher den online-Kalender und/oder die Facebook-Seite checken! \nWir beginnen pünktlich und öffnen bereits um 17:30 für euch\, damit ihr euch umziehen könnt. \nOrt: Das Gugg – Heumühlgasse 14\, 1040 Wien \nKontakt: yoga@archiv.hosiwien.at
URL:https://archiv.hosiwien.at/event/queer-yoga_2022_05-06/
LOCATION:Gugg\, Heumühlgasse 14\, Wien\, 1040
CATEGORIES:Gruppen
GEO:48.1961598;16.3617969
X-APPLE-STRUCTURED-LOCATION;VALUE=URI;X-ADDRESS=Gugg Heumühlgasse 14 Wien 1040;X-APPLE-RADIUS=500;X-TITLE=Heumühlgasse 14:geo:16.3617969,48.1961598
END:VEVENT
END:VCALENDAR