BEGIN:VCALENDAR
VERSION:2.0
PRODID:-//Homosexuelle Initiative (HOSI) Wien - ECPv5.16.4//NONSGML v1.0//EN
CALSCALE:GREGORIAN
METHOD:PUBLISH
X-WR-CALNAME:Homosexuelle Initiative (HOSI) Wien
X-ORIGINAL-URL:https://archiv.hosiwien.at
X-WR-CALDESC:Events for Homosexuelle Initiative (HOSI) Wien
REFRESH-INTERVAL;VALUE=DURATION:PT1H
X-Robots-Tag:noindex
X-PUBLISHED-TTL:PT1H
BEGIN:VTIMEZONE
TZID:Europe/Vienna
BEGIN:DAYLIGHT
TZOFFSETFROM:+0100
TZOFFSETTO:+0200
TZNAME:CEST
DTSTART:20220327T010000
END:DAYLIGHT
BEGIN:STANDARD
TZOFFSETFROM:+0200
TZOFFSETTO:+0100
TZNAME:CET
DTSTART:20221030T010000
END:STANDARD
END:VTIMEZONE
BEGIN:VEVENT
DTSTART;TZID=Europe/Vienna:20220516T190000
DTEND;TZID=Europe/Vienna:20220516T220000
DTSTAMP:20260420T231853
CREATED:20220308T180837Z
LAST-MODIFIED:20220311T104711Z
UID:91242-1652727600-1652738400@archiv.hosiwien.at
SUMMARY:Mitarbeiter*innen Vorbesprechung Regenbogenball
DESCRIPTION:interne Vorbesprechung für die Mitarbeiter*innen beim Regenbogenball \n— \nAchtung: Es gelten die Corona-Zutrittsregeln der Gastronomie\, die zum Zeitpunkt der Veranstaltung Gültigkeit haben. \n 
URL:https://archiv.hosiwien.at/event/mitarbeiterinnen-vorbesprechung-regenbogenball-2/
LOCATION:Gugg – Giovannis Room\, Heumühlgasse 14\, Wien\, 1040\, Österreich
CATEGORIES:Regenbogenball
ATTACH;FMTTYPE=image/jpeg:https://archiv.hosiwien.at/img/image/2022/2022-01-12-12.57.29.jpg
GEO:48.1961598;16.3617969
X-APPLE-STRUCTURED-LOCATION;VALUE=URI;X-ADDRESS=Gugg – Giovannis Room Heumühlgasse 14 Wien 1040 Österreich;X-APPLE-RADIUS=500;X-TITLE=Heumühlgasse 14:geo:16.3617969,48.1961598
END:VEVENT
END:VCALENDAR