BEGIN:VCALENDAR
VERSION:2.0
PRODID:-//Homosexuelle Initiative (HOSI) Wien - ECPv5.16.4//NONSGML v1.0//EN
CALSCALE:GREGORIAN
METHOD:PUBLISH
X-WR-CALNAME:Homosexuelle Initiative (HOSI) Wien
X-ORIGINAL-URL:https://archiv.hosiwien.at
X-WR-CALDESC:Events for Homosexuelle Initiative (HOSI) Wien
REFRESH-INTERVAL;VALUE=DURATION:PT1H
X-Robots-Tag:noindex
X-PUBLISHED-TTL:PT1H
BEGIN:VTIMEZONE
TZID:Europe/Vienna
BEGIN:DAYLIGHT
TZOFFSETFROM:+0100
TZOFFSETTO:+0200
TZNAME:CEST
DTSTART:20220327T010000
END:DAYLIGHT
BEGIN:STANDARD
TZOFFSETFROM:+0200
TZOFFSETTO:+0100
TZNAME:CET
DTSTART:20221030T010000
END:STANDARD
END:VTIMEZONE
BEGIN:VEVENT
DTSTART;TZID=Europe/Vienna:20220521T183000
DTEND;TZID=Europe/Vienna:20220522T043000
DTSTAMP:20260420T231909
CREATED:20220112T150736Z
LAST-MODIFIED:20221024T105454Z
UID:90838-1653157800-1653193800@archiv.hosiwien.at
SUMMARY:24. Wiener Regenbogenball
DESCRIPTION:Der nächste Wiener Regenbogenball mit dem Motto „Footloose“\, das Ball-Ereignis für Lesben\, Schwule\, Bisexuelle\, trans-\, intergeschlechtliche Menschen und ihre Freund*innen\, findet am 21. Mai 2022 bereits zum 24. Mal statt. Veranstaltungsort sind die prunkvollen Räumlichkeiten des Parkhotel Schönbrunn. \nDer Wiener Regenbogenball hat sich nicht nur als eine der erfolgreichsten Ballveranstaltungen in Österreich etabliert\, er gilt auch als Höhepunkt der Ballsaison für die LGBTIQ-Community. Traditionell geht es an diesem Abend in erster Linie um gediegene Unterhaltung im klassischen Stil der Wiener Balltradition. Aber die Veranstaltung stellt zugleich auch eine wichtige Manifestation queerer Kultur dar\, die von allen – unabhängig von sexueller Orientierung und Geschlechtsidentität – gemeinsam gelebt wird. \nUnd nicht zuletzt ist der Regenbogenball eine wichtige Benefizveranstaltung: Der Reinerlös kommt der vielfältigen Arbeit der HOSI Wien\, wie etwa dem Betrieb des Gugg oder der Durchführung der Regenbogenparade zugute.
URL:https://archiv.hosiwien.at/event/24-wiener-regenbogenball/2022-05-21/
LOCATION:Parkhotel Schönbrunn\, Hietzinger Hauptstr. 10-14\, Wien\, 1130\, Österreich
CATEGORIES:Regenbogenball
ATTACH;FMTTYPE=image/jpeg:https://archiv.hosiwien.at/img/image/2022/2022-01-12-12.57.29.jpg
ORGANIZER;CN="HOSI%20Wien":MAILTO:office@archiv.hosiwien.at
GEO:48.1872566;16.3034331
X-APPLE-STRUCTURED-LOCATION;VALUE=URI;X-ADDRESS=Parkhotel Schönbrunn Hietzinger Hauptstr. 10-14 Wien 1130 Österreich;X-APPLE-RADIUS=500;X-TITLE=Hietzinger Hauptstr. 10-14:geo:16.3034331,48.1872566
END:VEVENT
END:VCALENDAR