BEGIN:VCALENDAR
VERSION:2.0
PRODID:-//Homosexuelle Initiative (HOSI) Wien - ECPv5.16.4//NONSGML v1.0//EN
CALSCALE:GREGORIAN
METHOD:PUBLISH
X-WR-CALNAME:Homosexuelle Initiative (HOSI) Wien
X-ORIGINAL-URL:https://archiv.hosiwien.at
X-WR-CALDESC:Events for Homosexuelle Initiative (HOSI) Wien
REFRESH-INTERVAL;VALUE=DURATION:PT1H
X-Robots-Tag:noindex
X-PUBLISHED-TTL:PT1H
BEGIN:VTIMEZONE
TZID:Europe/Vienna
BEGIN:DAYLIGHT
TZOFFSETFROM:+0100
TZOFFSETTO:+0200
TZNAME:CEST
DTSTART:20220327T010000
END:DAYLIGHT
BEGIN:STANDARD
TZOFFSETFROM:+0200
TZOFFSETTO:+0100
TZNAME:CET
DTSTART:20221030T010000
END:STANDARD
END:VTIMEZONE
BEGIN:VEVENT
DTSTART;TZID=Europe/Vienna:20220530T190000
DTEND;TZID=Europe/Vienna:20220530T220000
DTSTAMP:20260420T231858
CREATED:20180313T085947Z
LAST-MODIFIED:20220518T155455Z
UID:77893-1653937200-1653948000@archiv.hosiwien.at
SUMMARY:Startnummernverlosung - 26. Regenbogenparade
DESCRIPTION:Wer entscheidet über die Aufstellung der Gruppen zur Regenbogenparade? Wie immer das Los!\nDie offizielle Verlosung der Startnummern für alle TeilnehmerInnen der Regenbogenparade findet im Gugg statt. \nViel Glück beim Ziehen!
URL:https://archiv.hosiwien.at/event/startnummernverlosung-regenbogenparade/
LOCATION:Gugg\, Heumühlgasse 14\, Wien\, 1040
CATEGORIES:Regenbogenparade
ATTACH;FMTTYPE=image/jpeg:https://archiv.hosiwien.at/img/image/2019/Vienna-Pride-Logo.jpg
GEO:48.1961598;16.3617969
X-APPLE-STRUCTURED-LOCATION;VALUE=URI;X-ADDRESS=Gugg Heumühlgasse 14 Wien 1040;X-APPLE-RADIUS=500;X-TITLE=Heumühlgasse 14:geo:16.3617969,48.1961598
END:VEVENT
END:VCALENDAR