BEGIN:VCALENDAR
VERSION:2.0
PRODID:-//Homosexuelle Initiative (HOSI) Wien - ECPv5.16.4//NONSGML v1.0//EN
CALSCALE:GREGORIAN
METHOD:PUBLISH
X-ORIGINAL-URL:https://archiv.hosiwien.at
X-WR-CALDESC:Events for Homosexuelle Initiative (HOSI) Wien
REFRESH-INTERVAL;VALUE=DURATION:PT1H
X-Robots-Tag:noindex
X-PUBLISHED-TTL:PT1H
BEGIN:VTIMEZONE
TZID:Europe/Vienna
BEGIN:DAYLIGHT
TZOFFSETFROM:+0100
TZOFFSETTO:+0200
TZNAME:CEST
DTSTART:20220327T010000
END:DAYLIGHT
BEGIN:STANDARD
TZOFFSETFROM:+0200
TZOFFSETTO:+0100
TZNAME:CET
DTSTART:20221030T010000
END:STANDARD
END:VTIMEZONE
BEGIN:VEVENT
DTSTART;TZID=Europe/Vienna:20220618T190000
DTEND;TZID=Europe/Vienna:20220618T235500
DTSTAMP:20260421T043257
CREATED:20220510T142954Z
LAST-MODIFIED:20221004T140244Z
UID:92185-1655578800-1655596500@archiv.hosiwien.at
SUMMARY:Gays And Theys Comedy
DESCRIPTION:Dear gays\, dear theys\, dear friends and allies\, we have a special treat for you this month: we’re getting many of our previous showcase performers together for one big pride month comedy special! \nTuran Ali\, Barbara Beisteiner\, Philipp Kroiss\, Rebecka Vilhonen\, and Paul Jacobs are all ready to entertain you alongside the Gays and Theys trio: Aislinn Kane\, Linda Stonem and Emily Thornhill\, this time on the beautiful stage at Hosi’s Gugg! \nIf you’re interested in seeing a new kind of comedy show by queer people for queer people and supporters of the LGBTQ+ community\, you don’t want to miss this very special showcase! See you on June 18th! \nTickets: 10€ online\, 13€ at the door\nhttps://www.eventbrite.com/e/pride-special-gays-and-theys-comedy-tickets-351242173797
URL:https://archiv.hosiwien.at/event/gays-and-theys-comedy/
LOCATION:Gugg\, Heumühlgasse 14\, Wien\, 1040
CATEGORIES:Bar service,cultural event,kulturelle Veranstaltung
ATTACH;FMTTYPE=image/jpeg:https://archiv.hosiwien.at/img/image/2022/InShot_20220608_174902953-scaled.jpg
GEO:48.1961598;16.3617969
X-APPLE-STRUCTURED-LOCATION;VALUE=URI;X-ADDRESS=Gugg Heumühlgasse 14 Wien 1040;X-APPLE-RADIUS=500;X-TITLE=Heumühlgasse 14:geo:16.3617969,48.1961598
END:VEVENT
END:VCALENDAR