BEGIN:VCALENDAR
VERSION:2.0
PRODID:-//Homosexuelle Initiative (HOSI) Wien - ECPv5.16.4//NONSGML v1.0//EN
CALSCALE:GREGORIAN
METHOD:PUBLISH
X-ORIGINAL-URL:https://archiv.hosiwien.at
X-WR-CALDESC:Events for Homosexuelle Initiative (HOSI) Wien
REFRESH-INTERVAL;VALUE=DURATION:PT1H
X-Robots-Tag:noindex
X-PUBLISHED-TTL:PT1H
BEGIN:VTIMEZONE
TZID:Europe/Vienna
BEGIN:DAYLIGHT
TZOFFSETFROM:+0100
TZOFFSETTO:+0200
TZNAME:CEST
DTSTART:20220327T010000
END:DAYLIGHT
BEGIN:STANDARD
TZOFFSETFROM:+0200
TZOFFSETTO:+0100
TZNAME:CET
DTSTART:20221030T010000
END:STANDARD
END:VTIMEZONE
BEGIN:VEVENT
DTSTART;TZID=Europe/Vienna:20220628T103000
DTEND;TZID=Europe/Vienna:20220628T130000
DTSTAMP:20260420T220731
CREATED:20220614T142055Z
LAST-MODIFIED:20220614T154219Z
UID:92337-1656412200-1656421200@archiv.hosiwien.at
SUMMARY:FH-Gruppe auf Besuch bei Peter Funk
DESCRIPTION:
URL:https://archiv.hosiwien.at/event/fh-gruppe-auf-besuch-bei-peter-funk/
LOCATION:Gugg – Salon Helga\, Heumühlgasse 14\, Vienna\, 1040\, Österreich
CATEGORIES:Intern
GEO:48.1961598;16.3617969
X-APPLE-STRUCTURED-LOCATION;VALUE=URI;X-ADDRESS=Gugg – Salon Helga Heumühlgasse 14 Vienna 1040 Österreich;X-APPLE-RADIUS=500;X-TITLE=Heumühlgasse 14:geo:16.3617969,48.1961598
END:VEVENT
BEGIN:VEVENT
DTSTART;TZID=Europe/Vienna:20220628T180000
DTEND;TZID=Europe/Vienna:20220628T180000
DTSTAMP:20260420T220731
CREATED:20220627T081124Z
LAST-MODIFIED:20220627T082853Z
UID:92415-1656439200-1656439200@archiv.hosiwien.at
SUMMARY:Mahnwache: We stand with Oslo
DESCRIPTION:In der Nacht von Freitag auf Samstag\, am Vorabend der Oslo Pride\, wurde ein LGBTIQ-Club angegriffen und zwei Menschen ermordet sowie mehrere weitere teils schwer verletzt.\nUm unser tiefempfundes Mitgefühl und Beileid auszudrücken\, halten wir am Dienstag eine Mahnwache gegenüber der Königlichen Norwegischen Botschaft ab. \nDatum: Dienstag\, 28.06.2022\nUhrzeit: ab 18:00 Uhr\nWo: Königliche Norwegische Botschaft\, Reisnerstraße 55-57 1030 Wien \nWir bitten alle die aktuellen gesetzlichen Corona-Sicherheitsbestimmungen zu beachten.
URL:https://archiv.hosiwien.at/event/mahnwache-we-stand-with-oslo/
LOCATION:Königliche Norwegische Botschaft\, Reisnerstraße 55-57\, Wien\, 1030
CATEGORIES:Demonstration
ATTACH;FMTTYPE=image/jpeg:https://archiv.hosiwien.at/img/image/2022/We-stand-with-Oslo.jpeg
END:VEVENT
BEGIN:VEVENT
DTSTART;TZID=Europe/Vienna:20220628T193000
DTEND;TZID=Europe/Vienna:20220628T233000
DTSTAMP:20260420T220731
CREATED:20210730T123718Z
LAST-MODIFIED:20221013T100639Z
UID:91405-1656444600-1656459000@archiv.hosiwien.at
SUMMARY:Spieleabend
DESCRIPTION:Scrabble\, UNO Spin\, Trivial Pursuit\, Schach oder doch Monopoly? Bei unseren Spieleabenden hast du die Qual der Wahl!\nSuche dir ein Spiel aus und leg los! An Spielpartner*innen wird es keinen Mangel geben.\nDer Spieleabend steht bei uns mittlerweile fix im Programm und zieht immer wieder neue Besucher*innen in das allseits bekannte Lokal in der Heumühlgasse 14.\nKomm auch du am Dienstag ins Gugg und spiel mit! \nDer Eintritt ist frei! \nEinlass: 19:00\nBeginn: 19:30 \nAchtung: Bitte haltet euch an die zum Zeitpunkt der Veranstaltung bestehenden Corona-Sicherheitsregeln in Gastroräumen. \n 
URL:https://archiv.hosiwien.at/event/spieleabend/2022-06-28/
LOCATION:Gugg\, Heumühlgasse 14\, Wien\, 1040
CATEGORIES:kulturelle Veranstaltung
ATTACH;FMTTYPE=image/png:https://archiv.hosiwien.at/img/image/2016/gugg-und-spiele-wuerfel.png
ORGANIZER;CN="HOSI%20Wien":MAILTO:office@archiv.hosiwien.at
GEO:48.1961598;16.3617969
X-APPLE-STRUCTURED-LOCATION;VALUE=URI;X-ADDRESS=Gugg Heumühlgasse 14 Wien 1040;X-APPLE-RADIUS=500;X-TITLE=Heumühlgasse 14:geo:16.3617969,48.1961598
END:VEVENT
END:VCALENDAR