BEGIN:VCALENDAR
VERSION:2.0
PRODID:-//Homosexuelle Initiative (HOSI) Wien - ECPv5.16.4//NONSGML v1.0//EN
CALSCALE:GREGORIAN
METHOD:PUBLISH
X-ORIGINAL-URL:https://archiv.hosiwien.at
X-WR-CALDESC:Events for Homosexuelle Initiative (HOSI) Wien
REFRESH-INTERVAL;VALUE=DURATION:PT1H
X-Robots-Tag:noindex
X-PUBLISHED-TTL:PT1H
BEGIN:VTIMEZONE
TZID:Europe/Vienna
BEGIN:DAYLIGHT
TZOFFSETFROM:+0100
TZOFFSETTO:+0200
TZNAME:CEST
DTSTART:20220327T010000
END:DAYLIGHT
BEGIN:STANDARD
TZOFFSETFROM:+0200
TZOFFSETTO:+0100
TZNAME:CET
DTSTART:20221030T010000
END:STANDARD
END:VTIMEZONE
BEGIN:VEVENT
DTSTART;TZID=Europe/Vienna:20221003T190000
DTEND;TZID=Europe/Vienna:20221003T223000
DTSTAMP:20260421T031734
CREATED:20220808T111353Z
LAST-MODIFIED:20221004T142019Z
UID:92779-1664823600-1664836200@archiv.hosiwien.at
SUMMARY:What is Gender? - Gays and Theys Comedy and Q&A Show
DESCRIPTION:After the great success of their first „What is Gender“ show\, Gays and Theys – Comedy is bringing it back again this October! 🏳️‍⚧️ \nYou’ll have another chance to ask trans and non-binary comedians all about their gender journeys\, their relationships with their own bodies\, their transitions\, as well as any gender-related questions you’ve always wanted to know the answers to\, but never dared to ask. So whether you’re a baby trans looking for advice\, or you’re just curious about different gender expressions and what terms like „transgender“ or „non-binary“ actually mean\, this event is for you! \nAnd of course\, you will also be entertained with some top-notch stand-up comedy! \nEmily Thornhill will be joined by Dimitri Arnstein and Jacob Liss in the q&a portion of the show\, right after you’ve all had a good laugh with all of them\, the hilarious Aislinn Kane\, and your host of the evening Lin Riva. \nQuestions can be asked publicly or anonymously. Just keep it respectful! \nFree entry\, donations are welcome 🤗
URL:https://archiv.hosiwien.at/event/what-is-gender-gays-and-theys-comedy-and-qa-show/
LOCATION:Gugg\, Heumühlgasse 14\, Wien\, 1040
CATEGORIES:Bar service,cultural event,kulturelle Veranstaltung
ATTACH;FMTTYPE=image/jpeg:https://archiv.hosiwien.at/img/image/2022/Gays_and_Theys_HGenderShow.jpeg
GEO:48.1961598;16.3617969
X-APPLE-STRUCTURED-LOCATION;VALUE=URI;X-ADDRESS=Gugg Heumühlgasse 14 Wien 1040;X-APPLE-RADIUS=500;X-TITLE=Heumühlgasse 14:geo:16.3617969,48.1961598
END:VEVENT
END:VCALENDAR