BEGIN:VCALENDAR
VERSION:2.0
PRODID:-//Homosexuelle Initiative (HOSI) Wien - ECPv5.16.4//NONSGML v1.0//EN
CALSCALE:GREGORIAN
METHOD:PUBLISH
X-WR-CALNAME:Homosexuelle Initiative (HOSI) Wien
X-ORIGINAL-URL:https://archiv.hosiwien.at
X-WR-CALDESC:Events for Homosexuelle Initiative (HOSI) Wien
REFRESH-INTERVAL;VALUE=DURATION:PT1H
X-Robots-Tag:noindex
X-PUBLISHED-TTL:PT1H
BEGIN:VTIMEZONE
TZID:Europe/Vienna
BEGIN:DAYLIGHT
TZOFFSETFROM:+0100
TZOFFSETTO:+0200
TZNAME:CEST
DTSTART:20220327T010000
END:DAYLIGHT
BEGIN:STANDARD
TZOFFSETFROM:+0200
TZOFFSETTO:+0100
TZNAME:CET
DTSTART:20221030T010000
END:STANDARD
END:VTIMEZONE
BEGIN:VEVENT
DTSTART;TZID=Europe/Vienna:20221108T190000
DTEND;TZID=Europe/Vienna:20221108T220000
DTSTAMP:20260421T064838
CREATED:20220114T144110Z
LAST-MODIFIED:20221018T085329Z
UID:90868-1667934000-1667944800@archiv.hosiwien.at
SUMMARY:Homosexualität und Nationalsozialismus - Vortragsreihe von QWIEN - Zentrum für queere Geschichte
DESCRIPTION:QWIEN – Zentrum für queere Geschichte– veranstaltet die zehnteilige Vortragsreihe „Homosexualität und Nationalsozialismus“ von Mai bis November 2022 an diversen Standorten in Wien. Die heutigen Vorträge sind: \nDaniela Pscheiden: Das Delikt der „Unzucht wider die Natur“ in den Akten des Wiener Jugendgerichtshofes 1938 – 1945\nDie großteils nur noch auszugsweise als Kopien erhaltenen Akten des Wiener Jugendgerichtshofs aus der Zeit von 1938 bis 1945 geben interessante Einblicke in die Lebenswelt der Jugendlichen jener Zeit. Sie zeigen die vielfältigen rechtlichen\, gesellschaftlichen und individuellen Folgen\, die Jugendliche bei einer Anklage nach § 129 I b StG\, dem Delikt „Unzucht wider die Natur“\, zu erwarten hatten. Ihre Einordnung vor Gericht als „Verführter“ oder „Strichjunge“\, ihre Beurteilung in politischer\, medizinischer und sozialer Hinsicht entschieden über das verhängte Strafausmaß. Auch ein Fall weiblicher Homosexualität\, die nur in Österreich\, nicht aber im Rest des Deutschen Reiches strafbar war\, ist in den Akten erhalten. Die Diskriminierung endete jedoch nicht 1945. Die Nachwirkungen der über sie gefällten Urteile begleiteten viele der Jugendlichen bis ins hohe Alter. \nNatascha Bobrowsky: „Ich nehmen an […]\, dass sie ein Mannweib ist.“. Verfolgung und Stereotypisierung homosexueller Frauen in Gerichtsakten zu § 129Ib StG (1938 bis 1945)\nFragend nach einer möglichen Stereotypisierung angeklagter Frauen steht im Mittelpunt des Vortrages eine qualitative Analyse einzelner Gerichtsakten aus Innsbruck\, Klagenfurt\, Linz\, Ried im Innkreis und Wien in Hinblick auf zeitgenössische Diskurse über weibliche Homosexualität. \nEinlass: 18:30\nStart: 19:00\nEintritt frei.
URL:https://archiv.hosiwien.at/event/qwien-vortragsreihe/
LOCATION:Gugg\, Heumühlgasse 14\, Wien\, 1040
CATEGORIES:Café-Betrieb,Information,kulturelle Veranstaltung
ATTACH;FMTTYPE=image/jpeg:https://archiv.hosiwien.at/img/image/2022/QWIEN-Vortragsreihe-Homosexualitaet-und-Nationalsozialismus.jpg
ORGANIZER;CN="QWIEN":MAILTO:office@qwien.at
GEO:48.1961598;16.3617969
X-APPLE-STRUCTURED-LOCATION;VALUE=URI;X-ADDRESS=Gugg Heumühlgasse 14 Wien 1040;X-APPLE-RADIUS=500;X-TITLE=Heumühlgasse 14:geo:16.3617969,48.1961598
END:VEVENT
BEGIN:VEVENT
DTSTART;TZID=Europe/Vienna:20221108T200000
DTEND;TZID=Europe/Vienna:20221108T210000
DTSTAMP:20260421T064838
CREATED:20221008T110920Z
LAST-MODIFIED:20221222T163605Z
UID:93338-1667937600-1667941200@archiv.hosiwien.at
SUMMARY:offline Karten- und Tischvorverkauf im Gugg
DESCRIPTION:Hier kannst du offline deine Eintritts- und Tischkarten kaufen. Bezahlt kann in BAR oder bequeme per Karte.\nAlle Eintritts- und Tischkarten Preise findest du unter Tickets – Regenbogenball. \nLetzte Eintrittskarten können als Kombi-Tickets (Eintrittskarte inkl. Tischplatz) ausschließlich im Vereinszentrum der HOSI Wien „das Gugg“  gekauft werden. Solange der Vorrat reicht! \n*************************************************************************** \nDer nächste Wiener Regenbogenball mit dem Motto „Roaring 20s“\, das Ball-Ereignis für Lesben\, Schwule\, Bisexuelle\, trans-\, intergeschlechtliche Menschen und ihre Freund*innen\, findet am 28. Januar 2023 bereits zum 25. Mal statt. Veranstaltungsort sind die prunkvollen Räumlichkeiten des Parkhotel Schönbrunn. \nDer Wiener Regenbogenball hat sich nicht nur als eine der erfolgreichsten Ballveranstaltungen in Österreich etabliert\, er gilt auch als Höhepunkt der Ballsaison für die LGBTIQ-Community. Traditionell geht es an diesem Abend in erster Linie um gediegene Unterhaltung im klassischen Stil der Wiener Balltradition. Aber die Veranstaltung stellt zugleich auch eine wichtige Manifestation queerer Kultur dar\, die von allen – unabhängig von sexueller Orientierung und Geschlechtsidentität – gemeinsam gelebt wird. \nUnd nicht zuletzt ist der Regenbogenball eine wichtige Benefizveranstaltung: Der Reinerlös kommt der vielfältigen Arbeit der HOSI Wien\, wie etwa dem Betrieb des Gugg oder der Durchführung der Regenbogenparade zugute.
URL:https://archiv.hosiwien.at/event/93338/2022-11-08/
LOCATION:Gugg\, Heumühlgasse 14\, Wien\, 1040
CATEGORIES:Regenbogenball
ATTACH;FMTTYPE=image/jpeg:https://archiv.hosiwien.at/img/image/2022/Regenbogenball_2023.jpg
GEO:48.1961598;16.3617969
X-APPLE-STRUCTURED-LOCATION;VALUE=URI;X-ADDRESS=Gugg Heumühlgasse 14 Wien 1040;X-APPLE-RADIUS=500;X-TITLE=Heumühlgasse 14:geo:16.3617969,48.1961598
END:VEVENT
END:VCALENDAR