BEGIN:VCALENDAR
VERSION:2.0
PRODID:-//Homosexuelle Initiative (HOSI) Wien - ECPv5.16.4//NONSGML v1.0//EN
CALSCALE:GREGORIAN
METHOD:PUBLISH
X-ORIGINAL-URL:https://archiv.hosiwien.at
X-WR-CALDESC:Events for Homosexuelle Initiative (HOSI) Wien
REFRESH-INTERVAL;VALUE=DURATION:PT1H
X-Robots-Tag:noindex
X-PUBLISHED-TTL:PT1H
BEGIN:VTIMEZONE
TZID:Europe/Vienna
BEGIN:DAYLIGHT
TZOFFSETFROM:+0100
TZOFFSETTO:+0200
TZNAME:CEST
DTSTART:20220327T010000
END:DAYLIGHT
BEGIN:STANDARD
TZOFFSETFROM:+0200
TZOFFSETTO:+0100
TZNAME:CET
DTSTART:20221030T010000
END:STANDARD
END:VTIMEZONE
BEGIN:VEVENT
DTSTART;TZID=Europe/Vienna:20221115T180000
DTEND;TZID=Europe/Vienna:20221116T000000
DTSTAMP:20260421T063944
CREATED:20210528T110055Z
LAST-MODIFIED:20221117T111442Z
UID:92505-1668535200-1668556800@archiv.hosiwien.at
SUMMARY:50+ Prime Timers
DESCRIPTION:Die 50+ Prime Timers sind eine Gruppe speziell für Menschen über 50 Jahren.\nDu suchst Anschluss oder möchtest dich in der gemütlichen Atmosphäre des Guggs mit anderen austauschen?\nDann komm‘ doch einfach zum Treffen der Prime Timers\, die sich jeden 3. Dienstag im Monat ab 18 Uhr im Gugg treffen. \nDas Treffen findet im Barbereich statt. \nHINWEIS: Das umfangreiche Serviceangebot der HOSI Wien wird durch ehrenamtliches Engagement erbracht. Wie du die wichtige Arbeit des Vereins durch Spende oder Mitgliedschaft unterstützen kannst\, erfährst du unter archiv.hosiwien.at/mitgliedschaft.
URL:https://archiv.hosiwien.at/event/50-prime-timers-31/2022-11-15/
LOCATION:Gugg\, Heumühlgasse 14\, Wien\, 1040
CATEGORIES:Gruppen
ATTACH;FMTTYPE=image/jpeg:https://archiv.hosiwien.at/img/50+.jpg
GEO:48.1961598;16.3617969
X-APPLE-STRUCTURED-LOCATION;VALUE=URI;X-ADDRESS=Gugg Heumühlgasse 14 Wien 1040;X-APPLE-RADIUS=500;X-TITLE=Heumühlgasse 14:geo:16.3617969,48.1961598
END:VEVENT
BEGIN:VEVENT
DTSTART;TZID=Europe/Vienna:20221115T193000
DTEND;TZID=Europe/Vienna:20221115T233000
DTSTAMP:20260421T063944
CREATED:20210730T115645Z
LAST-MODIFIED:20220926T125458Z
UID:93242-1668540600-1668555000@archiv.hosiwien.at
SUMMARY:Werwolf-Abend
DESCRIPTION:Der Spiele-Klassiker „Die Werwölfe vom Düsterwald“ zieht regelmäßig unsere Besucher*innen in seinen Bann. Warum? Hat es mit dunkler Magie zu tun\, oder ist es das gesellige Beisammensein\, das die besondere Atmosphäre des Abends ausmacht? \nFinde es heraus und mach dir ein eigenes Bild vom Werwolf-Abend im Gugg! Komm alleine oder nimm Freund*innen mit – wir freuen uns auf dich! Es sind keine Vorkenntnisse erforderlich. Im Gegenteil: Die Spielrunden dauern nicht lange\, und wir erklären Neulingen gerne die Regeln. Eine Runde aussetzen oder erst später ins Spiel einsteigen ist somit auch kein Problem. \nWir freuen uns sehr auf einen blutrünstigen Abend! \nP.S.: Infos zum Spiel unter: http://de.wikipedia.org/wiki/Werwölfe_von_Düsterwald \nDer Eintritt ist frei! \nEinlass: 19:00\nBeginn: 19:30 \nAchtung: Bitte haltet euch an die zum Zeitpunkt der Veranstaltung bestehenden Corona-Sicherheitsregeln in Gastroräumen.
URL:https://archiv.hosiwien.at/event/werwolf-abend-35/2022-11-15/
LOCATION:Gugg\, Heumühlgasse 14\, Wien\, 1040
CATEGORIES:kulturelle Veranstaltung
ATTACH;FMTTYPE=image/jpeg:https://archiv.hosiwien.at/img/werwoelfe_duesterwald.jpg
ORGANIZER;CN="HOSI%20Wien":MAILTO:office@archiv.hosiwien.at
GEO:48.1961598;16.3617969
X-APPLE-STRUCTURED-LOCATION;VALUE=URI;X-ADDRESS=Gugg Heumühlgasse 14 Wien 1040;X-APPLE-RADIUS=500;X-TITLE=Heumühlgasse 14:geo:16.3617969,48.1961598
END:VEVENT
END:VCALENDAR