BEGIN:VCALENDAR
VERSION:2.0
PRODID:-//Homosexuelle Initiative (HOSI) Wien - ECPv5.16.4//NONSGML v1.0//EN
CALSCALE:GREGORIAN
METHOD:PUBLISH
X-ORIGINAL-URL:https://archiv.hosiwien.at
X-WR-CALDESC:Events for Homosexuelle Initiative (HOSI) Wien
REFRESH-INTERVAL;VALUE=DURATION:PT1H
X-Robots-Tag:noindex
X-PUBLISHED-TTL:PT1H
BEGIN:VTIMEZONE
TZID:Europe/Vienna
BEGIN:DAYLIGHT
TZOFFSETFROM:+0100
TZOFFSETTO:+0200
TZNAME:CEST
DTSTART:20220327T010000
END:DAYLIGHT
BEGIN:STANDARD
TZOFFSETFROM:+0200
TZOFFSETTO:+0100
TZNAME:CET
DTSTART:20221030T010000
END:STANDARD
END:VTIMEZONE
BEGIN:VEVENT
DTSTART;TZID=Europe/Vienna:20221126T190000
DTEND;TZID=Europe/Vienna:20221126T235500
DTSTAMP:20260421T064454
CREATED:20220510T142954Z
LAST-MODIFIED:20221109T104046Z
UID:93315-1669489200-1669506900@archiv.hosiwien.at
SUMMARY:SANDPAPER - a comedy show by Rebecka Vilhonen and The Bumpis
DESCRIPTION:SANDPAPER – a comedy show by Rebecka Vilhonen and The Bumpis / presented by Gays and Theys Comedy \nThe Finnish elf Rebecka Vilhonen has made a show that is almost an hour long and is all about her!\nRebecka talks about her Finnishness\, her anxiety\, social phobia and insists on still referencing Game of Thrones like it’s a new show.\nWarning: plush toys will make an appearance! \nCome and see this narcissistic millennial try to parent herself while fucking about on stage. It will be fun! \nOpening acts: Aislinn Kane\, Lin Riva\nHosted by: Emily Thornhill \nTickets:\n12€ online: (click here for ticketlink)\n15€ at the door \nEinlass/Doors 19:00 \n  \nGays and Theys – Comedy is a project by Aislinn Kane\, Lin Riva and Emily Thornhill.
URL:https://archiv.hosiwien.at/event/gays-and-theys-comedy-4/
LOCATION:Gugg\, Heumühlgasse 14\, Wien\, 1040
CATEGORIES:Bar service,cultural event,kulturelle Veranstaltung
ATTACH;FMTTYPE=image/jpeg:https://archiv.hosiwien.at/img/image/2022/221126-Gays-and-Theys-Rebecka-banner.jpg
GEO:48.1961598;16.3617969
X-APPLE-STRUCTURED-LOCATION;VALUE=URI;X-ADDRESS=Gugg Heumühlgasse 14 Wien 1040;X-APPLE-RADIUS=500;X-TITLE=Heumühlgasse 14:geo:16.3617969,48.1961598
END:VEVENT
END:VCALENDAR