BEGIN:VCALENDAR
VERSION:2.0
PRODID:-//Homosexuelle Initiative (HOSI) Wien - ECPv5.16.4//NONSGML v1.0//EN
CALSCALE:GREGORIAN
METHOD:PUBLISH
X-WR-CALNAME:Homosexuelle Initiative (HOSI) Wien
X-ORIGINAL-URL:https://archiv.hosiwien.at
X-WR-CALDESC:Events for Homosexuelle Initiative (HOSI) Wien
REFRESH-INTERVAL;VALUE=DURATION:PT1H
X-Robots-Tag:noindex
X-PUBLISHED-TTL:PT1H
BEGIN:VTIMEZONE
TZID:Europe/Vienna
BEGIN:DAYLIGHT
TZOFFSETFROM:+0100
TZOFFSETTO:+0200
TZNAME:CEST
DTSTART:20220327T010000
END:DAYLIGHT
BEGIN:STANDARD
TZOFFSETFROM:+0200
TZOFFSETTO:+0100
TZNAME:CET
DTSTART:20221030T010000
END:STANDARD
END:VTIMEZONE
BEGIN:VEVENT
DTSTART;TZID=Europe/Vienna:20221209T190000
DTEND;TZID=Europe/Vienna:20221209T190000
DTSTAMP:20260421T054836
CREATED:20220810T125756Z
LAST-MODIFIED:20221113T063954Z
UID:92784-1670612400-1670612400@archiv.hosiwien.at
SUMMARY:Weihnachtsfeier der HOSI Wien
DESCRIPTION:Ho\, ho\, HOSI. Endlich ist es wieder soweit: Der Vorstand der HOSI Wien lädt für Freitag\, den 09.12.22\, alle Vereinsmitglieder\, Gugg-Stammgäste und sonstige Gleichgesinnte herzlich zur (ursprünglich) jährlichen Weihnachtsfeier!\nNach einer pandemiebedingten Zwangspause\, können wir es kaum erwarten uns gemeinsam in die besinnliche Zeit zu stürzen\, wobei ein paar Dinge natürlich nicht fehlen dürfen. Wir haben uns nicht lumpen lassen\, ein fulminantes Abendprogramm für euch zusammenzustellen. Also dürft ihr euch unter anderem über ein besonders weihnachtliches Karaokesingen\, Schrottwichteln\, und Drag-Kunst freuen. Somit ist für wohl Alle etwas Passendes dabei\, wobei manche Programmpunkte auch gerne schnell wieder vorbei sein dürfen…\nGanz besonders stolz sind wir hingegen darauf\, den ersten HOSI-Award für herausragendes ehrenamtliches Engagement verleihen zu können.\nIm Mittelpunkt soll vor Allem das Zusammensein stehen. Also packt eure Weihnachtshauben aus\, und euren Schrott ein\, wir sehen uns im Gugg!
URL:https://archiv.hosiwien.at/event/weihnachtsfeier-der-hosi-wien-5/
LOCATION:Gugg\, Heumühlgasse 14\, Wien\, 1040
CATEGORIES:Party
ATTACH;FMTTYPE=image/jpeg:https://archiv.hosiwien.at/img/image/2022/HOSI_Weihnachtsfeier_2022.jpeg
GEO:48.1961598;16.3617969
X-APPLE-STRUCTURED-LOCATION;VALUE=URI;X-ADDRESS=Gugg Heumühlgasse 14 Wien 1040;X-APPLE-RADIUS=500;X-TITLE=Heumühlgasse 14:geo:16.3617969,48.1961598
END:VEVENT
END:VCALENDAR