BEGIN:VCALENDAR
VERSION:2.0
PRODID:-//Homosexuelle Initiative (HOSI) Wien - ECPv5.16.4//NONSGML v1.0//EN
CALSCALE:GREGORIAN
METHOD:PUBLISH
X-WR-CALNAME:Homosexuelle Initiative (HOSI) Wien
X-ORIGINAL-URL:https://archiv.hosiwien.at
X-WR-CALDESC:Events for Homosexuelle Initiative (HOSI) Wien
REFRESH-INTERVAL;VALUE=DURATION:PT1H
X-Robots-Tag:noindex
X-PUBLISHED-TTL:PT1H
BEGIN:VTIMEZONE
TZID:Europe/Vienna
BEGIN:DAYLIGHT
TZOFFSETFROM:+0100
TZOFFSETTO:+0200
TZNAME:CEST
DTSTART:20220327T010000
END:DAYLIGHT
BEGIN:STANDARD
TZOFFSETFROM:+0200
TZOFFSETTO:+0100
TZNAME:CET
DTSTART:20221030T010000
END:STANDARD
END:VTIMEZONE
BEGIN:VEVENT
DTSTART;TZID=Europe/Vienna:20221217T190000
DTEND;TZID=Europe/Vienna:20221217T235900
DTSTAMP:20260421T054708
CREATED:20221109T104624Z
LAST-MODIFIED:20221128T155039Z
UID:93812-1671303600-1671321540@archiv.hosiwien.at
SUMMARY:Gays and Theys - Comedy / Holiday OPEN MIC
DESCRIPTION:We’re approaching that dreaded time of year when we have to come out to grandma again because she forgot since last year (not because of age related memory issues\, but by choice) and we would rather laugh then cry about it! \nAre you also THE gay cousin at every family event? Tell us about it!\nNo comedy experience needed\, just write „spot please“ into the event or PM us to perform.\nHoliday themed acts will be given priority. \nWhile the stage at this event is only open to LGBTQ+ (aspiring) comedians\, we very happily welcome allies into the audience!\nWe’re sure you’ll love our lineup of diverse\, unique\, hilarious newcomers and seasoned queer entertainers alike\, so join us and bring your friends along! \nThe entry is FREE!\n(we’re happy to accept donations to help fund our future shows) \nGays and Theys – Comedy is a project by Aislinn Kane\, Lin Riva and Emily Thornhill.
URL:https://archiv.hosiwien.at/event/gays-and-theys-comedy-5/
LOCATION:Gugg\, Heumühlgasse 14\, Wien\, 1040
CATEGORIES:Bar service,Café-Betrieb,cultural event,kulturelle Veranstaltung
ATTACH;FMTTYPE=image/jpeg:https://archiv.hosiwien.at/img/image/2022/221217-Gays-and-Theys-Open-Mic-Christmas-Weihnachten.jpg
GEO:48.1961598;16.3617969
X-APPLE-STRUCTURED-LOCATION;VALUE=URI;X-ADDRESS=Gugg Heumühlgasse 14 Wien 1040;X-APPLE-RADIUS=500;X-TITLE=Heumühlgasse 14:geo:16.3617969,48.1961598
END:VEVENT
END:VCALENDAR