BEGIN:VCALENDAR
VERSION:2.0
PRODID:-//Homosexuelle Initiative (HOSI) Wien - ECPv5.16.4//NONSGML v1.0//EN
CALSCALE:GREGORIAN
METHOD:PUBLISH
X-WR-CALNAME:Homosexuelle Initiative (HOSI) Wien
X-ORIGINAL-URL:https://archiv.hosiwien.at
X-WR-CALDESC:Events for Homosexuelle Initiative (HOSI) Wien
REFRESH-INTERVAL;VALUE=DURATION:PT1H
X-Robots-Tag:noindex
X-PUBLISHED-TTL:PT1H
BEGIN:VTIMEZONE
TZID:Europe/Vienna
BEGIN:DAYLIGHT
TZOFFSETFROM:+0100
TZOFFSETTO:+0200
TZNAME:CEST
DTSTART:20220327T010000
END:DAYLIGHT
BEGIN:STANDARD
TZOFFSETFROM:+0200
TZOFFSETTO:+0100
TZNAME:CET
DTSTART:20221030T010000
END:STANDARD
END:VTIMEZONE
BEGIN:VEVENT
DTSTART;TZID=Europe/Vienna:20221222T173000
DTEND;TZID=Europe/Vienna:20221222T220000
DTSTAMP:20260421T070150
CREATED:20210521T112042Z
LAST-MODIFIED:20221221T092837Z
UID:90963-1671730200-1671746400@archiv.hosiwien.at
SUMMARY:ACHTUNG: Winterpause! QYVIE - Queer Youth Vienna
DESCRIPTION:Wir machen Winterpause! \nDas Jugendteam wünscht: Frohe Weihnachten und einen guten Rutsch ins neue Jahr! \nWir blicken auf ein ereignisreiches Jahr zurück\, auf viele Highlights und schöne Momente mit tollen Menschen. Um das Jahr ausklingen zu lassen und dann mit neuer Energie ins neue Jahr zu starten\, macht der Jugendabend in den letzten beiden Dezemberwochen Winterpause. \n‼️Wir bleiben daher am Do\, den 22.12 und am Do\, den 29.12 geschlossen. \nTeilt diese Information bitte mit eueren Freund*innen\, damit niemand vor verschlossenen Türen stehen muss. \nWir freuen uns auf weitere tolle Jugendabende mit euch! Bis nächstes Jahr! \nWenn du Fragen hast oder uns zuerst einmal nur eine Nachricht schicken möchtest\, sind wir unter den folgenden Kanälen erreichbar: \nE-Mail: jugend@archiv.hosiwien.at \nInstagram: @hosi_jugend \nFacebook: Queer Youth Vienna QYVIE der HOSI Wien @queeryouthvienna \nHINWEIS: Das umfangreiche Serviceangebot der HOSI Wien wird durch ehrenamtliches Engagement erbracht. Wie du die wichtige Arbeit des Vereins durch Spende oder Mitgliedschaft unterstützen kannst\, erfährst du unter archiv.hosiwien.at/mitgliedschaft.
URL:https://archiv.hosiwien.at/event/queer-youth-vienna-qyvie-2-2021-07-29-2022-12-22/
LOCATION:Gugg\, Heumühlgasse 14\, Wien\, 1040
CATEGORIES:Gruppen
ATTACH;FMTTYPE=image/png:https://archiv.hosiwien.at/img/image/2020/b-lgbt.png
GEO:48.1961598;16.3617969
X-APPLE-STRUCTURED-LOCATION;VALUE=URI;X-ADDRESS=Gugg Heumühlgasse 14 Wien 1040;X-APPLE-RADIUS=500;X-TITLE=Heumühlgasse 14:geo:16.3617969,48.1961598
END:VEVENT
END:VCALENDAR