BEGIN:VCALENDAR
VERSION:2.0
PRODID:-//Homosexuelle Initiative (HOSI) Wien - ECPv5.16.4//NONSGML v1.0//EN
CALSCALE:GREGORIAN
METHOD:PUBLISH
X-WR-CALNAME:Homosexuelle Initiative (HOSI) Wien
X-ORIGINAL-URL:https://archiv.hosiwien.at
X-WR-CALDESC:Events for Homosexuelle Initiative (HOSI) Wien
REFRESH-INTERVAL;VALUE=DURATION:PT1H
X-Robots-Tag:noindex
X-PUBLISHED-TTL:PT1H
BEGIN:VTIMEZONE
TZID:Europe/Vienna
BEGIN:DAYLIGHT
TZOFFSETFROM:+0100
TZOFFSETTO:+0200
TZNAME:CEST
DTSTART:20230326T010000
END:DAYLIGHT
BEGIN:STANDARD
TZOFFSETFROM:+0200
TZOFFSETTO:+0100
TZNAME:CET
DTSTART:20231029T010000
END:STANDARD
END:VTIMEZONE
BEGIN:VEVENT
DTSTART;TZID=Europe/Vienna:20230116T190000
DTEND;TZID=Europe/Vienna:20230116T235900
DTSTAMP:20260421T092950
CREATED:20221116T135917Z
LAST-MODIFIED:20230110T155500Z
UID:93873-1673895600-1673913540@archiv.hosiwien.at
SUMMARY:Gays and Theys - Comedy
DESCRIPTION:Josef Jöchl likes talking about dating\, jobs\, cheese\, kitchen sink psychology and the internet. \nHe has been part of the Vienna stand-up scene for a couple of years now\, where he co-founded the PCCC*\, the politically correct comedy club and co-hosted it until 2020. \nSince then he came out with two very gay solo shows\, which were warmly received. He also writes a sex column called „Sex and the Lugner City“. \nFor Gays and Theys – Comedy he will perform in English. \nOpening acts: Lin Riva\, Emily Thornhill \nHosted by: Aislinn Kane
URL:https://archiv.hosiwien.at/event/gays-and-theys-comedy-6/
LOCATION:Gugg\, Heumühlgasse 14\, Wien\, 1040
CATEGORIES:Bar service,Café-Betrieb,cultural event,kulturelle Veranstaltung
ATTACH;FMTTYPE=image/jpeg:https://archiv.hosiwien.at/img/image/2023/Josef-.jpg
GEO:48.1961598;16.3617969
X-APPLE-STRUCTURED-LOCATION;VALUE=URI;X-ADDRESS=Gugg Heumühlgasse 14 Wien 1040;X-APPLE-RADIUS=500;X-TITLE=Heumühlgasse 14:geo:16.3617969,48.1961598
END:VEVENT
END:VCALENDAR