BEGIN:VCALENDAR
VERSION:2.0
PRODID:-//Homosexuelle Initiative (HOSI) Wien - ECPv5.16.4//NONSGML v1.0//EN
CALSCALE:GREGORIAN
METHOD:PUBLISH
X-WR-CALNAME:Homosexuelle Initiative (HOSI) Wien
X-ORIGINAL-URL:https://archiv.hosiwien.at
X-WR-CALDESC:Events for Homosexuelle Initiative (HOSI) Wien
REFRESH-INTERVAL;VALUE=DURATION:PT1H
X-Robots-Tag:noindex
X-PUBLISHED-TTL:PT1H
BEGIN:VTIMEZONE
TZID:Europe/Vienna
BEGIN:DAYLIGHT
TZOFFSETFROM:+0100
TZOFFSETTO:+0200
TZNAME:CEST
DTSTART:20230326T010000
END:DAYLIGHT
BEGIN:STANDARD
TZOFFSETFROM:+0200
TZOFFSETTO:+0100
TZNAME:CET
DTSTART:20231029T010000
END:STANDARD
END:VTIMEZONE
BEGIN:VEVENT
DTSTART;TZID=Europe/Vienna:20230128T183000
DTEND;TZID=Europe/Vienna:20230129T043000
DTSTAMP:20260421T081132
CREATED:20220112T150736Z
LAST-MODIFIED:20221111T090612Z
UID:93716-1674930600-1674966600@archiv.hosiwien.at
SUMMARY:25. Wiener Regenbogenball
DESCRIPTION:Komm zum Regenbogenball 2023\n\n\n\n\n\nDas Event für den guten Zweck\nGemeinsam mit 1500 Gäst*innen feiern wir jedes Jahr beim Regenbogenball Vielfalt in all ihren Facetten. Der Erlös dieses beliebten Events kommt ausschließlich Projekten der LGBTIQ-Community zugute. Die Veranstaltung ist damit nicht nur eine unvergessliche Ballnacht\, sondern eine Möglichkeit\, Akzeptanz und Vielfalt zu fördern und zugleich die LGBTIQ-Community zu unterstützen. Wie jedes Jahr wird der Regenbogenball durch das Engagement der Aktivist*innen der HOSI Wien und durch ehrenamtliche Mitarbeiter*innen möglich gemacht. \nSpread the Word: Gleich zum Event anmelden!\nUnterstütze uns und sag gleich hier bei unserem Facebook-Event zu. Wir freuen uns\, wenn du dabei bist und die Nachricht verbreitest! Das Event und damit auch laufende Updates zu Gewinnspielen\, Künstler*innen und zum Programm findest du hier: \n\n\n\n\n\nHier klicken\n\n\n\n\n\n\nKartenvorverkauf und ehrenamtliche Mitarbeit\nDer Kartenvorverkauf wird am 1. November starten und auch die Suche nach ehrenamtlichen Mitarbeiter*innen wird Anfang November beginnen. Detaillierte Infos dazu werden wir dir in Kürze bekannt geben. Wir freuen uns\, wenn du wieder beim Ball dabei bist und gemeinsam mit uns dieses besondere Jubiläum feierst.
URL:https://archiv.hosiwien.at/event/25-wiener-regenbogenball/
LOCATION:Parkhotel Schönbrunn\, Hietzinger Hauptstr. 10-14\, Wien\, 1130\, Österreich
CATEGORIES:Regenbogenball
ATTACH;FMTTYPE=image/jpeg:https://archiv.hosiwien.at/img/image/2022/Newsletter-v1.jpg
ORGANIZER;CN="HOSI%20Wien":MAILTO:office@archiv.hosiwien.at
GEO:48.1872566;16.3034331
X-APPLE-STRUCTURED-LOCATION;VALUE=URI;X-ADDRESS=Parkhotel Schönbrunn Hietzinger Hauptstr. 10-14 Wien 1130 Österreich;X-APPLE-RADIUS=500;X-TITLE=Hietzinger Hauptstr. 10-14:geo:16.3034331,48.1872566
END:VEVENT
END:VCALENDAR