BEGIN:VCALENDAR
VERSION:2.0
PRODID:-//Homosexuelle Initiative (HOSI) Wien - ECPv5.16.4//NONSGML v1.0//EN
CALSCALE:GREGORIAN
METHOD:PUBLISH
X-WR-CALNAME:Homosexuelle Initiative (HOSI) Wien
X-ORIGINAL-URL:https://archiv.hosiwien.at
X-WR-CALDESC:Events for Homosexuelle Initiative (HOSI) Wien
REFRESH-INTERVAL;VALUE=DURATION:PT1H
X-Robots-Tag:noindex
X-PUBLISHED-TTL:PT1H
BEGIN:VTIMEZONE
TZID:Europe/Vienna
BEGIN:DAYLIGHT
TZOFFSETFROM:+0100
TZOFFSETTO:+0200
TZNAME:CEST
DTSTART:20230326T010000
END:DAYLIGHT
BEGIN:STANDARD
TZOFFSETFROM:+0200
TZOFFSETTO:+0100
TZNAME:CET
DTSTART:20231029T010000
END:STANDARD
END:VTIMEZONE
BEGIN:VEVENT
DTSTART;TZID=Europe/Vienna:20230213T183000
DTEND;TZID=Europe/Vienna:20230213T210000
DTSTAMP:20260421T092417
CREATED:20210803T073415Z
LAST-MODIFIED:20230206T104428Z
UID:93878-1676313000-1676322000@archiv.hosiwien.at
SUMMARY:Vorstandssitzung
DESCRIPTION:Der Vorstand der HOSI Wien ist gemäß Statuten das leitende und geschäftsführende Organ des Vereins. Er tritt monatlich mindestens einmal zu einer allen Mitgliedern zugänglichen Sitzung zusammen.
URL:https://archiv.hosiwien.at/event/vorstandssitzung-26-2021-10-04-2021-12-06-2023-01-09-2023-02-06/
LOCATION:Gugg – Salon Helga\, Heumühlgasse 14\, Vienna\, 1040\, Österreich
CATEGORIES:Intern
ATTACH;FMTTYPE=image/jpeg:https://archiv.hosiwien.at/img/image/2022/hosi-wien-logo-ohne-Schein-ab-2022-scaled.jpg
GEO:48.1961598;16.3617969
X-APPLE-STRUCTURED-LOCATION;VALUE=URI;X-ADDRESS=Gugg – Salon Helga Heumühlgasse 14 Vienna 1040 Österreich;X-APPLE-RADIUS=500;X-TITLE=Heumühlgasse 14:geo:16.3617969,48.1961598
END:VEVENT
BEGIN:VEVENT
DTSTART;TZID=Europe/Vienna:20230213T190000
DTEND;TZID=Europe/Vienna:20230213T235900
DTSTAMP:20260421T092417
CREATED:20221116T140100Z
LAST-MODIFIED:20230201T144902Z
UID:93876-1676314800-1676332740@archiv.hosiwien.at
SUMMARY:Gays and Theys - Comedy
DESCRIPTION:Love and laughter are in the air! And whether you’re in love with a person\, your job or life as a whole\, we want to hear all about it! \nNo comedy experience needed\, just write „spot please“ into the event or PM us to perform.\nLove and romance themed acts will be given priority. \nWhile the stage at this event is only open to LGBTQ+ (aspiring) comedians\, we very happily welcome allies into the audience!\nWe’re sure you’ll love our lineup of diverse\, unique\, hilarious newcomers and seasoned queer entertainers alike\, so join us and bring your friends along! \nThe entry is FREE!\n(we’re happy to accept donations to help fund our future shows) \nGays and Theys – Comedy is a project by Aislinn Kane\, Lin Riva and Emily Thornhill.
URL:https://archiv.hosiwien.at/event/gays-and-theys-comedy-7/
LOCATION:Gugg\, Heumühlgasse 14\, Wien\, 1040
CATEGORIES:Bar service,Café-Betrieb,cultural event,kulturelle Veranstaltung
ATTACH;FMTTYPE=image/jpeg:https://archiv.hosiwien.at/img/image/2023/WhatsApp-Bild-2023-02-01-um-15.46.39.jpg
GEO:48.1961598;16.3617969
X-APPLE-STRUCTURED-LOCATION;VALUE=URI;X-ADDRESS=Gugg Heumühlgasse 14 Wien 1040;X-APPLE-RADIUS=500;X-TITLE=Heumühlgasse 14:geo:16.3617969,48.1961598
END:VEVENT
END:VCALENDAR