BEGIN:VCALENDAR
VERSION:2.0
PRODID:-//Homosexuelle Initiative (HOSI) Wien - ECPv5.16.4//NONSGML v1.0//EN
CALSCALE:GREGORIAN
METHOD:PUBLISH
X-WR-CALNAME:Homosexuelle Initiative (HOSI) Wien
X-ORIGINAL-URL:https://archiv.hosiwien.at
X-WR-CALDESC:Events for Homosexuelle Initiative (HOSI) Wien
REFRESH-INTERVAL;VALUE=DURATION:PT1H
X-Robots-Tag:noindex
X-PUBLISHED-TTL:PT1H
BEGIN:VTIMEZONE
TZID:Europe/Vienna
BEGIN:DAYLIGHT
TZOFFSETFROM:+0100
TZOFFSETTO:+0200
TZNAME:CEST
DTSTART:20230326T010000
END:DAYLIGHT
BEGIN:STANDARD
TZOFFSETFROM:+0200
TZOFFSETTO:+0100
TZNAME:CET
DTSTART:20231029T010000
END:STANDARD
END:VTIMEZONE
BEGIN:VEVENT
DTSTART;TZID=Europe/Vienna:20230223T173000
DTEND;TZID=Europe/Vienna:20230223T213000
DTSTAMP:20260421T171345
CREATED:20230203T135527Z
LAST-MODIFIED:20230203T135527Z
UID:94308-1677173400-1677187800@archiv.hosiwien.at
SUMMARY:Beratung und Testung beim Jugendabend
DESCRIPTION:Am 23.02.23 kommt die Aidshilfe-Wien zur kostenlosen Testung (HIV\, Syphilis\, Hepatitis B & C) und Beratung von 17:30 bis 21:30 zum Jugendabend ins Gugg. Das Angebot richtet sich an alle queeren Menschen unter 29 Jahren. Kommt gerne vorbei!
URL:https://archiv.hosiwien.at/event/beratung-und-testung-beim-jugendabend/2023-02-23/
LOCATION:Gugg\, Heumühlgasse 14\, Wien\, 1040
CATEGORIES:Gruppen
ATTACH;FMTTYPE=image/png:https://archiv.hosiwien.at/img/image/2023/23022023-1-2.png
ORGANIZER;CN="QYVIE":MAILTO:jugend@archiv.hosiwien.at
GEO:48.1961598;16.3617969
X-APPLE-STRUCTURED-LOCATION;VALUE=URI;X-ADDRESS=Gugg Heumühlgasse 14 Wien 1040;X-APPLE-RADIUS=500;X-TITLE=Heumühlgasse 14:geo:16.3617969,48.1961598
END:VEVENT
END:VCALENDAR