BEGIN:VCALENDAR
VERSION:2.0
PRODID:-//Homosexuelle Initiative (HOSI) Wien - ECPv5.16.4//NONSGML v1.0//EN
CALSCALE:GREGORIAN
METHOD:PUBLISH
X-ORIGINAL-URL:https://archiv.hosiwien.at
X-WR-CALDESC:Events for Homosexuelle Initiative (HOSI) Wien
REFRESH-INTERVAL;VALUE=DURATION:PT1H
X-Robots-Tag:noindex
X-PUBLISHED-TTL:PT1H
BEGIN:VTIMEZONE
TZID:Europe/Vienna
BEGIN:DAYLIGHT
TZOFFSETFROM:+0100
TZOFFSETTO:+0200
TZNAME:CEST
DTSTART:20230326T010000
END:DAYLIGHT
BEGIN:STANDARD
TZOFFSETFROM:+0200
TZOFFSETTO:+0100
TZNAME:CET
DTSTART:20231029T010000
END:STANDARD
END:VTIMEZONE
BEGIN:VEVENT
DTSTART;TZID=Europe/Vienna:20230302T180000
DTEND;TZID=Europe/Vienna:20230302T220000
DTSTAMP:20260421T092703
CREATED:20230301T171123Z
LAST-MODIFIED:20230301T171123Z
UID:94554-1677780000-1677794400@archiv.hosiwien.at
SUMMARY:Demoschilder gestalten mit der QYVIE Jugendgruppe
DESCRIPTION:Du möchtest etwas in dieser Welt verändern und dich für deine und die Rechte anderer einsetzen?\nDann bist du zum Demoschilder basteln diesen Donnerstag bei unsrem Jugendabend im Vereinslokal Gugg genau richtig. Wir bereiten uns gemeinsam auf den Klimastreik (03.03.23) und den feministischen Kampftag (08.03.23) vor. \nKomm vorbei und zeige deine Kreativität und deinen Aktivismus! \n#demonstration #klimastrike #frauenrechte #queer #qyvie
URL:https://archiv.hosiwien.at/event/demoschilder-gestalten-mit-der-qyvie-jugendgruppe/2023-03-02/
LOCATION:Gugg\, Heumühlgasse 14\, Wien\, 1040
CATEGORIES:Gruppen
ATTACH;FMTTYPE=image/jpeg:https://archiv.hosiwien.at/img/image/2023/WhatsApp-Bild-2023-02-28-um-15.48.47.jpg
ORGANIZER;CN="QYVIE":MAILTO:jugend@archiv.hosiwien.at
GEO:48.1961598;16.3617969
X-APPLE-STRUCTURED-LOCATION;VALUE=URI;X-ADDRESS=Gugg Heumühlgasse 14 Wien 1040;X-APPLE-RADIUS=500;X-TITLE=Heumühlgasse 14:geo:16.3617969,48.1961598
END:VEVENT
END:VCALENDAR