BEGIN:VCALENDAR
VERSION:2.0
PRODID:-//Homosexuelle Initiative (HOSI) Wien - ECPv5.16.4//NONSGML v1.0//EN
CALSCALE:GREGORIAN
METHOD:PUBLISH
X-WR-CALNAME:Homosexuelle Initiative (HOSI) Wien
X-ORIGINAL-URL:https://archiv.hosiwien.at
X-WR-CALDESC:Events for Homosexuelle Initiative (HOSI) Wien
REFRESH-INTERVAL;VALUE=DURATION:PT1H
X-Robots-Tag:noindex
X-PUBLISHED-TTL:PT1H
BEGIN:VTIMEZONE
TZID:Europe/Vienna
BEGIN:DAYLIGHT
TZOFFSETFROM:+0100
TZOFFSETTO:+0200
TZNAME:CEST
DTSTART:20230326T010000
END:DAYLIGHT
BEGIN:STANDARD
TZOFFSETFROM:+0200
TZOFFSETTO:+0100
TZNAME:CET
DTSTART:20231029T010000
END:STANDARD
END:VTIMEZONE
BEGIN:VEVENT
DTSTART;VALUE=DATE:20230310
DTEND;VALUE=DATE:20230314
DTSTAMP:20260421T142850
CREATED:20230227T110940Z
LAST-MODIFIED:20230227T110940Z
UID:94529-1678424400-1678683599@archiv.hosiwien.at
SUMMARY:LGBTIQ-Bundesländer-Kongress
DESCRIPTION:Vom 10. – 12. März 2023 lädt die HOSI Wien ihre Partner*innen-Organisationen zum LGBTIQ-Bundesländer-Kongress 2022.
URL:https://archiv.hosiwien.at/event/lgbtiq-bundeslaender-kongress/
LOCATION:Gugg\, Heumühlgasse 14\, Wien\, 1040
CATEGORIES:Workshop
ATTACH;FMTTYPE=image/png:https://archiv.hosiwien.at/img/image/2023/Kongress.png
GEO:48.1961598;16.3617969
X-APPLE-STRUCTURED-LOCATION;VALUE=URI;X-ADDRESS=Gugg Heumühlgasse 14 Wien 1040;X-APPLE-RADIUS=500;X-TITLE=Heumühlgasse 14:geo:16.3617969,48.1961598
END:VEVENT
BEGIN:VEVENT
DTSTART;TZID=Europe/Vienna:20230312T130000
DTEND;TZID=Europe/Vienna:20230312T190000
DTSTAMP:20260421T142850
CREATED:20220810T133946Z
LAST-MODIFIED:20220810T133946Z
UID:93097-1678626000-1678647600@archiv.hosiwien.at
SUMMARY:HOSIsters Probe
DESCRIPTION:
URL:https://archiv.hosiwien.at/event/hosisters-probe-25/2023-03-12/
LOCATION:Gugg\, Heumühlgasse 14\, Wien\, 1040
CATEGORIES:Intern
GEO:48.1961598;16.3617969
X-APPLE-STRUCTURED-LOCATION;VALUE=URI;X-ADDRESS=Gugg Heumühlgasse 14 Wien 1040;X-APPLE-RADIUS=500;X-TITLE=Heumühlgasse 14:geo:16.3617969,48.1961598
END:VEVENT
BEGIN:VEVENT
DTSTART;TZID=Europe/Vienna:20230312T180000
DTEND;TZID=Europe/Vienna:20230312T193000
DTSTAMP:20260421T142850
CREATED:20221025T101346Z
LAST-MODIFIED:20230311T170033Z
UID:93765-1678644000-1678649400@archiv.hosiwien.at
SUMMARY:Queer-Yoga (abgesagt!)
DESCRIPTION:Am 12.3. findet krankheitsbedingt kein Queer-Yoga statt!
URL:https://archiv.hosiwien.at/event/queer-yoga-2023_03-2023-03-12/
LOCATION:Gugg\, Heumühlgasse 14\, Wien\, 1040
CATEGORIES:Sperre
ATTACH;FMTTYPE=image/jpeg:https://archiv.hosiwien.at/img/image/2023/Queer-Yoga-2023.jpeg
GEO:48.1961598;16.3617969
X-APPLE-STRUCTURED-LOCATION;VALUE=URI;X-ADDRESS=Gugg Heumühlgasse 14 Wien 1040;X-APPLE-RADIUS=500;X-TITLE=Heumühlgasse 14:geo:16.3617969,48.1961598
END:VEVENT
END:VCALENDAR