BEGIN:VCALENDAR
VERSION:2.0
PRODID:-//Homosexuelle Initiative (HOSI) Wien - ECPv5.16.4//NONSGML v1.0//EN
CALSCALE:GREGORIAN
METHOD:PUBLISH
X-ORIGINAL-URL:https://archiv.hosiwien.at
X-WR-CALDESC:Events for Homosexuelle Initiative (HOSI) Wien
REFRESH-INTERVAL;VALUE=DURATION:PT1H
X-Robots-Tag:noindex
X-PUBLISHED-TTL:PT1H
BEGIN:VTIMEZONE
TZID:Europe/Vienna
BEGIN:DAYLIGHT
TZOFFSETFROM:+0100
TZOFFSETTO:+0200
TZNAME:CEST
DTSTART:20230326T010000
END:DAYLIGHT
BEGIN:STANDARD
TZOFFSETFROM:+0200
TZOFFSETTO:+0100
TZNAME:CET
DTSTART:20231029T010000
END:STANDARD
END:VTIMEZONE
BEGIN:VEVENT
DTSTART;TZID=Europe/Vienna:20230317T173000
DTEND;TZID=Europe/Vienna:20230317T200000
DTSTAMP:20260421T143045
CREATED:20230313T095654Z
LAST-MODIFIED:20230313T095723Z
UID:94597-1679074200-1679083200@archiv.hosiwien.at
SUMMARY:Trans und Therapie
DESCRIPTION:Trans und Therapie \nMit Cornelia Kunert und Birgitta Schiller \nWas muss ich\, was kann ich\, was darf ich? Im Rahmen einer Transition kommen trans Menschen oftmals mit psychotherapeutischem Fachpersonal in Kontakt und sehen diesen Terminen mit sehr gemischten Gefühlen entgegen. Jenseits von Attesten und Diagnostiken ist die Psychotherapie ein breites Feld\, kann begleiten\, unterstützen und bei der Selbstwerdung helfen. Doch was brauche ich eigentlich\, wie finde ich den_die passende Therapeut_in\, und ist das überhaupt leistbar?\nDie 2 Psychotherapeutinnen erzählen aus ihrer Praxis und beantworten Eure Fragen. \nFr 17. März\, ab 17:30\, Start 18 Uhr \nDie Veranstaltung wird aufgezeichnet\, es gibt sichere Plätze für alle. die nicht gefilmt werden wollen.
URL:https://archiv.hosiwien.at/event/trans-und-therapie/2023-03-17/
LOCATION:Gugg\, Heumühlgasse 14\, Wien\, 1040
CATEGORIES:Café-Betrieb,Workshop
ATTACH;FMTTYPE=image/jpeg:https://archiv.hosiwien.at/img/image/2023/WhatsApp-Bild-2023-03-13-um-10.52.56.jpg
ORGANIZER;CN="Cha%28i%29nge%20-%20Trans%20Peer%20Group":MAILTO:info@chaingepeergroup.at
GEO:48.1961598;16.3617969
X-APPLE-STRUCTURED-LOCATION;VALUE=URI;X-ADDRESS=Gugg Heumühlgasse 14 Wien 1040;X-APPLE-RADIUS=500;X-TITLE=Heumühlgasse 14:geo:16.3617969,48.1961598
END:VEVENT
END:VCALENDAR