BEGIN:VCALENDAR
VERSION:2.0
PRODID:-//Homosexuelle Initiative (HOSI) Wien - ECPv5.16.4//NONSGML v1.0//EN
CALSCALE:GREGORIAN
METHOD:PUBLISH
X-ORIGINAL-URL:https://archiv.hosiwien.at
X-WR-CALDESC:Events for Homosexuelle Initiative (HOSI) Wien
REFRESH-INTERVAL;VALUE=DURATION:PT1H
X-Robots-Tag:noindex
X-PUBLISHED-TTL:PT1H
BEGIN:VTIMEZONE
TZID:Europe/Vienna
BEGIN:DAYLIGHT
TZOFFSETFROM:+0100
TZOFFSETTO:+0200
TZNAME:CEST
DTSTART:20230326T010000
END:DAYLIGHT
BEGIN:STANDARD
TZOFFSETFROM:+0200
TZOFFSETTO:+0100
TZNAME:CET
DTSTART:20231029T010000
END:STANDARD
END:VTIMEZONE
BEGIN:VEVENT
DTSTART;TZID=Europe/Vienna:20230420T193000
DTEND;TZID=Europe/Vienna:20230420T220000
DTSTAMP:20260421T155556
CREATED:20230221T130032Z
LAST-MODIFIED:20230726T130453Z
UID:94494-1682019000-1682028000@archiv.hosiwien.at
SUMMARY:QYVIE-Quiz
DESCRIPTION:Jeden 3. Donnerstag im Monat findet das QYVIE-Quiz statt. \nKommt alle zahlreich\, habt Spaß bei einem gemeinsamen Quiz-Abend und gewinnt tolle Preise! \nAnmeldung ist keine notwendig – einfach vorbei kommen und Spaß haben. \nWir freuen uns auf euch! \n  \nDas Angebot richtet sich an alle queeren Menschen unter 29 Jahren.
URL:https://archiv.hosiwien.at/event/qyvie-quiz-2/2023-04-20/
LOCATION:Gugg\, Heumühlgasse 14\, Wien\, 1040
CATEGORIES:Café-Betrieb,Gruppen
ATTACH;FMTTYPE=image/png:https://archiv.hosiwien.at/img/image/2023/QYVIE-Quiz.png
ORGANIZER;CN="QYVIE":MAILTO:jugend@archiv.hosiwien.at
GEO:48.1961598;16.3617969
X-APPLE-STRUCTURED-LOCATION;VALUE=URI;X-ADDRESS=Gugg Heumühlgasse 14 Wien 1040;X-APPLE-RADIUS=500;X-TITLE=Heumühlgasse 14:geo:16.3617969,48.1961598
END:VEVENT
END:VCALENDAR