BEGIN:VCALENDAR
VERSION:2.0
PRODID:-//Homosexuelle Initiative (HOSI) Wien - ECPv5.16.4//NONSGML v1.0//EN
CALSCALE:GREGORIAN
METHOD:PUBLISH
X-WR-CALNAME:Homosexuelle Initiative (HOSI) Wien
X-ORIGINAL-URL:https://archiv.hosiwien.at
X-WR-CALDESC:Events for Homosexuelle Initiative (HOSI) Wien
REFRESH-INTERVAL;VALUE=DURATION:PT1H
X-Robots-Tag:noindex
X-PUBLISHED-TTL:PT1H
BEGIN:VTIMEZONE
TZID:Europe/Vienna
BEGIN:DAYLIGHT
TZOFFSETFROM:+0100
TZOFFSETTO:+0200
TZNAME:CEST
DTSTART:20230326T010000
END:DAYLIGHT
BEGIN:STANDARD
TZOFFSETFROM:+0200
TZOFFSETTO:+0100
TZNAME:CET
DTSTART:20231029T010000
END:STANDARD
END:VTIMEZONE
BEGIN:VEVENT
DTSTART;TZID=Europe/Vienna:20230426T180000
DTEND;TZID=Europe/Vienna:20230426T210000
DTSTAMP:20260421T173817
CREATED:20230411T154340Z
LAST-MODIFIED:20230411T154340Z
UID:94763-1682532000-1682542800@archiv.hosiwien.at
SUMMARY:Lesbischer Sichtbarkeitstag
DESCRIPTION:„Zum Lesbischen Sichtbarkeitstag 2023 lädt der Lesben*Rat herzlich ab 18 Uhr ins Parlament ein: Gemeinsam mit SoHo-SPÖ und Grünen Andersrum diskutieren wir die Parallelen zwischen lesbischen und trans Frauen in unserer Gesellschaft. Die Unsichtbarmachung\, die lesbische Frauen erfahren\, betrifft oft Themen wie Elternschaft\, Familie\, Selbstbestimmung über den eigenen Körper. Wer darf sich Mutter nennen? Welche Familienkonstellationen sind sozial akzeptiert? Wer hat ein Recht auf Selbstbestimmung? \nAnhand ausgewählter Textstellen aus „Detransition\, Baby“ von Torrey Peters fragen wir uns: Wie können die Diskurse aus dem cis-lesbischen Kontext im trans Kontext helfen? \nGerade am 26. April feiern wir lesbische Sichtbarkeit in allen Facetten. Gleichzeitig müssen wir die queere Community vor Angriffen von außen schützen und solidarisch untereinander sein. Wir freuen uns auf ein spannendes\, respektvolles und offenes Event! \nAnmeldung bis 25.4. um 15 Uhr unbedingt erforderlich: https://forms.office.com/e/A92xDMAdyL
URL:https://archiv.hosiwien.at/event/lesbischer-sichtbarkeitstag/
CATEGORIES:kulturelle Veranstaltung
ATTACH;FMTTYPE=image/jpeg:https://archiv.hosiwien.at/img/image/2023/Lesbenrat.jpg
END:VEVENT
BEGIN:VEVENT
DTSTART;TZID=Europe/Vienna:20230426T190000
DTEND;TZID=Europe/Vienna:20230427T000000
DTSTAMP:20260421T173817
CREATED:20230220T131628Z
LAST-MODIFIED:20230623T105903Z
UID:94433-1682535600-1682553600@archiv.hosiwien.at
SUMMARY:LesBiFem-Abend
DESCRIPTION:Lesbisch\, bi\, pan\, queer\, feministisch – diese Schlagwörter stehen jeden Mittwoch im Mittelpunkt\, wenn die LesBiFem-Gruppe sich ab 19 Uhr im Gugg trifft. \nDie 1981 in der HOSI Wien gegründete Gruppe (bis 2021: Lesben(*)gruppe) trifft sich seit jeher mittwochs und heißt alle willkommen\, die sich als lesbische\, bisexuelle und queere Frauen verstehen. \nAuch Menschen abseits der binären Geschlechterwelt\, die sich als queer und auf dem weiblichen Spektrum identifizieren\, sind herzlich willkommen! \nEs gibt keine Konsumationspflicht. \nMehr zur LesBiFem-Gruppe findest du hier: https://archiv.hosiwien.at/gruppen-angebot/lesbengruppe/\nund wenn du dich genauer über unsere Gruppe informieren möchtest\, melde dich gern bei Lisa. Oder noch besser: Komm einfach mal vorbei! \nlisa.hermanns@archiv.hosiwien.at \nWir freuen uns auf dich!
URL:https://archiv.hosiwien.at/event/lesbifem-abend/2023-04-26/
LOCATION:Gugg\, Heumühlgasse 14\, Wien\, 1040
CATEGORIES:Café-Betrieb,Gruppen
ATTACH;FMTTYPE=image/png:https://archiv.hosiwien.at/img/image/2022/LesBiFem.png
GEO:48.1961598;16.3617969
X-APPLE-STRUCTURED-LOCATION;VALUE=URI;X-ADDRESS=Gugg Heumühlgasse 14 Wien 1040;X-APPLE-RADIUS=500;X-TITLE=Heumühlgasse 14:geo:16.3617969,48.1961598
END:VEVENT
BEGIN:VEVENT
DTSTART;TZID=Europe/Vienna:20230426T210000
DTEND;TZID=Europe/Vienna:20230426T210000
DTSTAMP:20260421T173817
CREATED:20230411T154559Z
LAST-MODIFIED:20230411T154559Z
UID:94766-1682542800-1682542800@archiv.hosiwien.at
SUMMARY:LesBiFem presents: Karaoke-Abend
DESCRIPTION:Es ist endlich wieder soweit: Die LesBiFemGruppe veranstaltet den nächsten Karaoke-Abend!🎤\nBringt eure lesbischsten Songs und eure queersten Freundinnen mit und seid dabei\, ab 21 Uhr wird gesungen!\nGesungen werden kann alles\, was Youtube-Karaoke hergibt. \nWir freuen uns auf euch!
URL:https://archiv.hosiwien.at/event/lesbifem-presents-karaoke-abend-5/2023-04-26/
LOCATION:Gugg\, Heumühlgasse 14\, Wien\, 1040
CATEGORIES:Gruppen
GEO:48.1961598;16.3617969
X-APPLE-STRUCTURED-LOCATION;VALUE=URI;X-ADDRESS=Gugg Heumühlgasse 14 Wien 1040;X-APPLE-RADIUS=500;X-TITLE=Heumühlgasse 14:geo:16.3617969,48.1961598
END:VEVENT
END:VCALENDAR