BEGIN:VCALENDAR
VERSION:2.0
PRODID:-//Homosexuelle Initiative (HOSI) Wien - ECPv5.16.4//NONSGML v1.0//EN
CALSCALE:GREGORIAN
METHOD:PUBLISH
X-WR-CALNAME:Homosexuelle Initiative (HOSI) Wien
X-ORIGINAL-URL:https://archiv.hosiwien.at
X-WR-CALDESC:Events for Homosexuelle Initiative (HOSI) Wien
REFRESH-INTERVAL;VALUE=DURATION:PT1H
X-Robots-Tag:noindex
X-PUBLISHED-TTL:PT1H
BEGIN:VTIMEZONE
TZID:Europe/Vienna
BEGIN:DAYLIGHT
TZOFFSETFROM:+0100
TZOFFSETTO:+0200
TZNAME:CEST
DTSTART:20230326T010000
END:DAYLIGHT
BEGIN:STANDARD
TZOFFSETFROM:+0200
TZOFFSETTO:+0100
TZNAME:CET
DTSTART:20231029T010000
END:STANDARD
END:VTIMEZONE
BEGIN:VEVENT
DTSTART;TZID=Europe/Vienna:20230506T143000
DTEND;TZID=Europe/Vienna:20230506T180000
DTSTAMP:20260421T171026
CREATED:20230424T095656Z
LAST-MODIFIED:20230425T085129Z
UID:94833-1683383400-1683396000@archiv.hosiwien.at
SUMMARY:Alles rund um die Mastek
DESCRIPTION:Alles rund um die Mastek \nMit Dr. Nina Hüttinger \nDie Zugänge zur Mastek sind so divers wie unsere Community: bei manchen ist sie das zentrale Ziel und es kann gar nicht schnell genug gehen\, andere schließen Top Surgery klar aus\, und viele entdecken ihren Zugang und ihre Wünsche erst mit der Zeit. Doch oft ist es gar nicht so einfach\, herauszufinden\, was für einen die beste Lösung sein könnte.\nWas habe ich für Optionen einer Mastektomie in Österreich\, was sind die damit verbundenen Schritte und Prozesse? Darf sich meine Einstellung zur Mastek ändern? Wie finde ich die für mich richtige Operation bzw. den_die richtige_n Chirurg_in? Wie sehen die Möglichkeiten für afab nichtbinäre Menschen aus? Warum sagen alle etwas anderes\, wenn es um die Nachversorgung geht? \nDr. Nina Hüttinger gibt einen Einblick in ihre Praxis  und beantwortet eure Fragen. \nDie Veranstaltung steht allen TIN Personen und allies offen. Solltet ihr es nicht hin schaffen\, schickt uns gerne eine dm mit euren Fragen. Die Veranstaltung ist in deutscher Lautsprache\, englische Übersetzung ist möglich. \n  \nEinlass: 14:30 Uhr \nBeginn: 15:00 Uhr
URL:https://archiv.hosiwien.at/event/alles-rund-um-die-mastek/2023-05-06/
LOCATION:Gugg\, Heumühlgasse 14\, Wien\, 1040
CATEGORIES:Café-Betrieb,Infoveranstaltung
ATTACH;FMTTYPE=image/jpeg:https://archiv.hosiwien.at/img/image/2023/Chainge_Mastek.jpg
ORGANIZER;CN="Cha%28i%29nge%20-%20Trans%20Peer%20Group":MAILTO:info@chaingepeergroup.at
GEO:48.1961598;16.3617969
X-APPLE-STRUCTURED-LOCATION;VALUE=URI;X-ADDRESS=Gugg Heumühlgasse 14 Wien 1040;X-APPLE-RADIUS=500;X-TITLE=Heumühlgasse 14:geo:16.3617969,48.1961598
END:VEVENT
END:VCALENDAR