BEGIN:VCALENDAR
VERSION:2.0
PRODID:-//Homosexuelle Initiative (HOSI) Wien - ECPv5.16.4//NONSGML v1.0//EN
CALSCALE:GREGORIAN
METHOD:PUBLISH
X-WR-CALNAME:Homosexuelle Initiative (HOSI) Wien
X-ORIGINAL-URL:https://archiv.hosiwien.at
X-WR-CALDESC:Events for Homosexuelle Initiative (HOSI) Wien
REFRESH-INTERVAL;VALUE=DURATION:PT1H
X-Robots-Tag:noindex
X-PUBLISHED-TTL:PT1H
BEGIN:VTIMEZONE
TZID:Europe/Vienna
BEGIN:DAYLIGHT
TZOFFSETFROM:+0100
TZOFFSETTO:+0200
TZNAME:CEST
DTSTART:20230326T010000
END:DAYLIGHT
BEGIN:STANDARD
TZOFFSETFROM:+0200
TZOFFSETTO:+0100
TZNAME:CET
DTSTART:20231029T010000
END:STANDARD
END:VTIMEZONE
BEGIN:VEVENT
DTSTART;TZID=Europe/Vienna:20230519T200000
DTEND;TZID=Europe/Vienna:20230520T040000
DTSTAMP:20260421T205416
CREATED:20230511T095827Z
LAST-MODIFIED:20230512T093003Z
UID:95172-1684526400-1684555200@archiv.hosiwien.at
SUMMARY:Regenbogenbogen-Party
DESCRIPTION:Es wird langsam wieder wärmer. Was gibt es da Besseres als am Ende der Woche mit deinen Lieblings-Queers zu feiern? Die HOSI Wien lädt zur Party in den Regenbogenbogen ein! \nAb 20 Uhr geht’s los – mit den besten Pridehits\, Schanigarten\, günstigen Getränken und der besten Crowd der Stadt.\nDie Party ist für alle Queers (und natürlich Allies). Alle Spenden kommen der Arbeit der HOSI Wien zu Gute.\nWir freuen uns auf euch! \n  \nWann? 19.05.2023\, ab 20:00 Uhr \nWo? U-Bahn Bogen 36\, 1080 Wien
URL:https://archiv.hosiwien.at/event/regenbogenbogen-party/2023-05-19/
LOCATION:Gugg\, Heumühlgasse 14\, Wien\, 1040
CATEGORIES:Party
ATTACH;FMTTYPE=image/jpeg:https://archiv.hosiwien.at/img/image/2023/roter-Bogen.jpg
ORGANIZER;CN="HOSI%20Wien":MAILTO:office@archiv.hosiwien.at
GEO:48.1961598;16.3617969
X-APPLE-STRUCTURED-LOCATION;VALUE=URI;X-ADDRESS=Gugg Heumühlgasse 14 Wien 1040;X-APPLE-RADIUS=500;X-TITLE=Heumühlgasse 14:geo:16.3617969,48.1961598
END:VEVENT
END:VCALENDAR