BEGIN:VCALENDAR
VERSION:2.0
PRODID:-//Homosexuelle Initiative (HOSI) Wien - ECPv5.16.4//NONSGML v1.0//EN
CALSCALE:GREGORIAN
METHOD:PUBLISH
X-ORIGINAL-URL:https://archiv.hosiwien.at
X-WR-CALDESC:Events for Homosexuelle Initiative (HOSI) Wien
REFRESH-INTERVAL;VALUE=DURATION:PT1H
X-Robots-Tag:noindex
X-PUBLISHED-TTL:PT1H
BEGIN:VTIMEZONE
TZID:Europe/Vienna
BEGIN:DAYLIGHT
TZOFFSETFROM:+0100
TZOFFSETTO:+0200
TZNAME:CEST
DTSTART:20230326T010000
END:DAYLIGHT
BEGIN:STANDARD
TZOFFSETFROM:+0200
TZOFFSETTO:+0100
TZNAME:CET
DTSTART:20231029T010000
END:STANDARD
END:VTIMEZONE
BEGIN:VEVENT
DTSTART;TZID=Europe/Vienna:20230602T153000
DTEND;TZID=Europe/Vienna:20230602T180000
DTSTAMP:20260421T172938
CREATED:20230525T100746Z
LAST-MODIFIED:20230525T100746Z
UID:95251-1685719800-1685728800@archiv.hosiwien.at
SUMMARY:AIDS-Memorial-Day 2023
DESCRIPTION:Tag der Toleranz\, Würde\, Liebe und Erinnerung \nTermin: Freitag\, 2. Juni 2023\nZeit: 15.30 Uhr\nOrt: Kirche Maria Grün\, (Wiener Prater)\, Aspernallee 1\, 1020 Wien \nNach einer Corona-bedingten Pause gibt es heuer wieder den AIDS Memorial Day und wir gedenken mit einer feierlichen Zeremonie der Menschen mit HIV/AIDS\, die verstorben sind. Gemeinsam legen wir beim AIDS Memorial (Kirche Maria Grün im Prater\, Aspernallee 1\, 1020 Wien) für jeden von ihnen eine Rose und einen Gedenkstein nieder. Weiters wird ein Quilt des ­Names ­Project Wien aufgelegt. \nWir planen ein kostenloses Sammeltaxi ab dem Praterstern. Bei Interesse bitte bei Wiltrut Stefanek /Verein PULSHIV 0699 114 03 426 / pulshiv@gmx.at ) bis 30.5.2023 an­melden. Anschließend an den Gedenkakt sorgen wir für Euer kulinarisches Wohl. \nNimm auch Du Dir Zeit\, um der lieben verstorbenen Menschen zu gedenken. \nDenn: Wirklich tot sind nur jene\, an die sich niemand mehr erinnert.
URL:https://archiv.hosiwien.at/event/aids-memorial-day-2023/
LOCATION:Kirche Maria Grün\, Aspernallee 1\, Wien\, 1020\, Österreich
ATTACH;FMTTYPE=image/jpeg:https://archiv.hosiwien.at/img/image/2023/Aids-Memorial-Day.jpeg
ORGANIZER;CN="Names%20Project%20Wien":MAILTO:office@namesproject.at
END:VEVENT
BEGIN:VEVENT
DTSTART;TZID=Europe/Vienna:20230602T164500
DTEND;TZID=Europe/Vienna:20230602T184500
DTSTAMP:20260421T172938
CREATED:20220803T153543Z
LAST-MODIFIED:20221014T141706Z
UID:93541-1685724300-1685731500@archiv.hosiwien.at
SUMMARY:Resis.danse Tanzworkshop
DESCRIPTION:Aufbau 4
URL:https://archiv.hosiwien.at/event/resis-danse-tanzkurs-2023-04-14/2023-06-02/
LOCATION:Gugg\, Heumühlgasse 14\, Wien\, 1040
CATEGORIES:Workshop
ATTACH;FMTTYPE=image/png:https://archiv.hosiwien.at/img/image/2016/resisdanse-logo-trans.png
ORGANIZER;CN="Resis.danse%20-%20FrauenTanzClub":MAILTO:tanzclub@resisdanse.at
GEO:48.1961598;16.3617969
X-APPLE-STRUCTURED-LOCATION;VALUE=URI;X-ADDRESS=Gugg Heumühlgasse 14 Wien 1040;X-APPLE-RADIUS=500;X-TITLE=Heumühlgasse 14:geo:16.3617969,48.1961598
END:VEVENT
BEGIN:VEVENT
DTSTART;TZID=Europe/Vienna:20230602T190000
DTEND;TZID=Europe/Vienna:20230602T210000
DTSTAMP:20260421T172938
CREATED:20220803T154433Z
LAST-MODIFIED:20221014T141747Z
UID:93491-1685732400-1685739600@archiv.hosiwien.at
SUMMARY:Resis.danse Tanzworkshop
DESCRIPTION:Aufbau 2
URL:https://archiv.hosiwien.at/event/resis-danse-tanzkurs-2-2022-11-04-2023-05-26/2023-06-02/
LOCATION:Gugg\, Heumühlgasse 14\, Wien\, 1040
CATEGORIES:Workshop
ATTACH;FMTTYPE=image/png:https://archiv.hosiwien.at/img/image/2016/resisdanse-logo-trans.png
ORGANIZER;CN="Resis.danse%20-%20FrauenTanzClub":MAILTO:tanzclub@resisdanse.at
GEO:48.1961598;16.3617969
X-APPLE-STRUCTURED-LOCATION;VALUE=URI;X-ADDRESS=Gugg Heumühlgasse 14 Wien 1040;X-APPLE-RADIUS=500;X-TITLE=Heumühlgasse 14:geo:16.3617969,48.1961598
END:VEVENT
BEGIN:VEVENT
DTSTART;TZID=Europe/Vienna:20230602T210000
DTEND;TZID=Europe/Vienna:20230603T000000
DTSTAMP:20260421T172938
CREATED:20210728T080045Z
LAST-MODIFIED:20221014T141148Z
UID:93568-1685739600-1685750400@archiv.hosiwien.at
SUMMARY:Resis.danse Tanzabend
DESCRIPTION:Eine Übungsmöglichkeit für alle tanzbegeisterten Frauen.\nEinfach vorbeikommen und mittanzen! \nImmer am Freitag nach den Resis.danse-Tanzworkshops in der gemütlichen Atmosphäre des Guggs\, ab 21 Uhr. \nGenauere Informationen auf der eigenen Website: www.resisdanse.at. \nFreier Eintritt!
URL:https://archiv.hosiwien.at/event/resis-danse-tanzabend-2-2022-01-14-2023-01-13/2023-06-02/
LOCATION:Gugg\, Heumühlgasse 14\, Wien\, 1040
CATEGORIES:Gruppen,Tanzabende
ATTACH;FMTTYPE=image/jpeg:https://archiv.hosiwien.at/img/image/2018/resisdance-5.jpg
ORGANIZER;CN="Resis.danse%20-%20FrauenTanzClub":MAILTO:tanzclub@resisdanse.at
GEO:48.1961598;16.3617969
X-APPLE-STRUCTURED-LOCATION;VALUE=URI;X-ADDRESS=Gugg Heumühlgasse 14 Wien 1040;X-APPLE-RADIUS=500;X-TITLE=Heumühlgasse 14:geo:16.3617969,48.1961598
END:VEVENT
END:VCALENDAR