BEGIN:VCALENDAR
VERSION:2.0
PRODID:-//Homosexuelle Initiative (HOSI) Wien - ECPv5.16.4//NONSGML v1.0//EN
CALSCALE:GREGORIAN
METHOD:PUBLISH
X-ORIGINAL-URL:https://archiv.hosiwien.at
X-WR-CALDESC:Events for Homosexuelle Initiative (HOSI) Wien
REFRESH-INTERVAL;VALUE=DURATION:PT1H
X-Robots-Tag:noindex
X-PUBLISHED-TTL:PT1H
BEGIN:VTIMEZONE
TZID:Europe/Vienna
BEGIN:DAYLIGHT
TZOFFSETFROM:+0100
TZOFFSETTO:+0200
TZNAME:CEST
DTSTART:20230326T010000
END:DAYLIGHT
BEGIN:STANDARD
TZOFFSETFROM:+0200
TZOFFSETTO:+0100
TZNAME:CET
DTSTART:20231029T010000
END:STANDARD
END:VTIMEZONE
BEGIN:VEVENT
DTSTART;TZID=Europe/Vienna:20230628T190000
DTEND;TZID=Europe/Vienna:20230629T000000
DTSTAMP:20260421T200004
CREATED:20230220T131628Z
LAST-MODIFIED:20230623T105916Z
UID:94442-1687978800-1687996800@archiv.hosiwien.at
SUMMARY:LesBiFem-Abend
DESCRIPTION:Lesbisch\, bi\, pan\, queer\, feministisch – diese Schlagwörter stehen jeden Mittwoch im Mittelpunkt\, wenn die LesBiFem-Gruppe sich ab 19 Uhr im Gugg trifft. \nDie 1981 in der HOSI Wien gegründete Gruppe (bis 2021: Lesben(*)gruppe) trifft sich seit jeher mittwochs und heißt alle willkommen\, die sich als lesbische\, bisexuelle und queere Frauen verstehen. \nAuch Menschen abseits der binären Geschlechterwelt\, die sich als queer und auf dem weiblichen Spektrum identifizieren\, sind herzlich willkommen! \nEs gibt keine Konsumationspflicht. \nMehr zur LesBiFem-Gruppe findest du hier: https://archiv.hosiwien.at/gruppen-angebot/lesbengruppe/\nund wenn du dich genauer über unsere Gruppe informieren möchtest\, melde dich gern bei Lisa. Oder noch besser: Komm einfach mal vorbei! \nlisa.hermanns@archiv.hosiwien.at \nWir freuen uns auf dich!
URL:https://archiv.hosiwien.at/event/lesbifem-abend/2023-06-28/
LOCATION:Gugg\, Heumühlgasse 14\, Wien\, 1040
CATEGORIES:Café-Betrieb,Gruppen
ATTACH;FMTTYPE=image/png:https://archiv.hosiwien.at/img/image/2022/LesBiFem.png
GEO:48.1961598;16.3617969
X-APPLE-STRUCTURED-LOCATION;VALUE=URI;X-ADDRESS=Gugg Heumühlgasse 14 Wien 1040;X-APPLE-RADIUS=500;X-TITLE=Heumühlgasse 14:geo:16.3617969,48.1961598
END:VEVENT
BEGIN:VEVENT
DTSTART;TZID=Europe/Vienna:20230628T200000
DTEND;TZID=Europe/Vienna:20230628T220000
DTSTAMP:20260421T200004
CREATED:20230525T094540Z
LAST-MODIFIED:20230621T090939Z
UID:95248-1687982400-1687989600@archiv.hosiwien.at
SUMMARY:Booktalk: ANNA HÁJKOVÁ - Menschen ohne Geschichte sind Staub\, HOMOPHOBIE UND HOLOCAUST
DESCRIPTION:Eine Untersuchung\, die für das Erinnern an queere jüdische Opfer während des Holocausts und für ein Ende der Stigmatisierung eintritt. \nDr. Anna Hájková\, Historikerin an der University of Warwick\, erzählt in ihrem Buch anhand der Geschichten von vier jungen Leuten von queerem Verlangen\, sexueller Gewalt\, selbstgewählten Familien und homophober Ausradierung aus der Geschichte. Ob es um queere Töne in Anne Franks Tagebuch geht\, oder Hájkovás Freundschaft mit Margot Heumann\, der ersten lesbischen Holocaustüberlebenden\, die Zeugnis ablegte – Anna Hájková beschreitet historisches Neuland\, deckt verdrängte und vergessene queere Geschichten im Holocaust auf – spannend und rührend zugleich. \nEinleitende Worte von Dr. Andreas Kranebitter  Leiter des DÖW (Dokumentationsarchiv des Österreichischen Widerstandes) \nDie Veranstaltung ist\, trotz LesBiFem-Abend\, für alle Menschen geöffnet. \nEinlass: ab 19:00 Uhr \nBeginn: 20:00 Uhr \n 
URL:https://archiv.hosiwien.at/event/lesung-the-last-ghetto-an-everyday-history-of-theresienstadt/
LOCATION:Gugg\, Heumühlgasse 14\, Wien\, 1040
CATEGORIES:kulturelle Veranstaltung
ATTACH;FMTTYPE=image/jpeg:https://archiv.hosiwien.at/img/image/2023/Lesung-scaled.jpg
GEO:48.1961598;16.3617969
X-APPLE-STRUCTURED-LOCATION;VALUE=URI;X-ADDRESS=Gugg Heumühlgasse 14 Wien 1040;X-APPLE-RADIUS=500;X-TITLE=Heumühlgasse 14:geo:16.3617969,48.1961598
END:VEVENT
END:VCALENDAR