BEGIN:VCALENDAR
VERSION:2.0
PRODID:-//Homosexuelle Initiative (HOSI) Wien - ECPv5.16.4//NONSGML v1.0//EN
CALSCALE:GREGORIAN
METHOD:PUBLISH
X-WR-CALNAME:Homosexuelle Initiative (HOSI) Wien
X-ORIGINAL-URL:https://archiv.hosiwien.at
X-WR-CALDESC:Events for Homosexuelle Initiative (HOSI) Wien
REFRESH-INTERVAL;VALUE=DURATION:PT1H
X-Robots-Tag:noindex
X-PUBLISHED-TTL:PT1H
BEGIN:VTIMEZONE
TZID:Europe/Vienna
BEGIN:DAYLIGHT
TZOFFSETFROM:+0100
TZOFFSETTO:+0200
TZNAME:CEST
DTSTART:20230326T010000
END:DAYLIGHT
BEGIN:STANDARD
TZOFFSETFROM:+0200
TZOFFSETTO:+0100
TZNAME:CET
DTSTART:20231029T010000
END:STANDARD
END:VTIMEZONE
BEGIN:VEVENT
DTSTART;TZID=Europe/Vienna:20230629T200000
DTEND;TZID=Europe/Vienna:20230629T230000
DTSTAMP:20260421T223948
CREATED:20230524T163446Z
LAST-MODIFIED:20230524T163516Z
UID:95222-1688068800-1688079600@archiv.hosiwien.at
SUMMARY:QYVIE Improtheater Workshop
DESCRIPTION:Lass den Impro-Funken überspringen beim QYVIE Jugendabend der HOSI! 🎭🎉\nBist du bereit für eine explosive Mischung aus Lachen\, Kreativität und improvisiertem Chaos? \nDann mach mit jeden letzten Donnerstag im Monat. \nWir spielen zusammen ein best of Improtheater. Übungen\, ganz ohne Druck oder Verpflichtungen.\nZusammen mit Jakob und Jo um 20 Uhr.
URL:https://archiv.hosiwien.at/event/qyvie-improtheater-workshop/2023-06-29/
LOCATION:Gugg\, Heumühlgasse 14\, Wien\, 1040
CATEGORIES:Workshop
ATTACH;FMTTYPE=image/jpeg:https://archiv.hosiwien.at/img/image/2023/Impro-QYVIE.jpg
GEO:48.1961598;16.3617969
X-APPLE-STRUCTURED-LOCATION;VALUE=URI;X-ADDRESS=Gugg Heumühlgasse 14 Wien 1040;X-APPLE-RADIUS=500;X-TITLE=Heumühlgasse 14:geo:16.3617969,48.1961598
END:VEVENT
END:VCALENDAR