BEGIN:VCALENDAR
VERSION:2.0
PRODID:-//Homosexuelle Initiative (HOSI) Wien - ECPv5.16.4//NONSGML v1.0//EN
CALSCALE:GREGORIAN
METHOD:PUBLISH
X-WR-CALNAME:Homosexuelle Initiative (HOSI) Wien
X-ORIGINAL-URL:https://archiv.hosiwien.at
X-WR-CALDESC:Events for Homosexuelle Initiative (HOSI) Wien
REFRESH-INTERVAL;VALUE=DURATION:PT1H
X-Robots-Tag:noindex
X-PUBLISHED-TTL:PT1H
BEGIN:VTIMEZONE
TZID:Europe/Vienna
BEGIN:DAYLIGHT
TZOFFSETFROM:+0100
TZOFFSETTO:+0200
TZNAME:CEST
DTSTART:20230326T010000
END:DAYLIGHT
BEGIN:STANDARD
TZOFFSETFROM:+0200
TZOFFSETTO:+0100
TZNAME:CET
DTSTART:20231029T010000
END:STANDARD
END:VTIMEZONE
BEGIN:VEVENT
DTSTART;TZID=Europe/Vienna:20230805T190000
DTEND;TZID=Europe/Vienna:20230805T233000
DTSTAMP:20260422T060712
CREATED:20230519T134244Z
LAST-MODIFIED:20230713T085545Z
UID:95199-1691262000-1691278200@archiv.hosiwien.at
SUMMARY:Gays and Theys – Comedy OPEN MIC
DESCRIPTION:18+ \nIf you’re a bit of a jokester who can’t sit straight\, drinks iced coffee in the winter\, is bad at math or insert gay stereotype here\, this is your chance to try out your jokes in front of an open minded\, non judgemental\, LGBTQ+ friendly audience! \nNo previous experience needed. Just write „spot\, please“ into the FB event or PM us if you’d like to perform. \nWhile the stage at this event is only open to LGBTQ+ (aspiring) comedians\, we very happily welcome allies into the audience! \nWe’re sure you’ll love our lineup of diverse\, unique\, hilarious newcomers and seasoned queer entertainers alike\, so join us and bring your friends along! The entry is FREE! \n(we’re happy to accept donations to help fund our future shows) \nGays and Theys – Comedy is a project by Aislinn Kane\, Lin Riva and Emily Thornhill. \n  \nhttps://www.eventbrite.com/e/english-open-mic-gays-and-theys-comedy-tickets-648738854377
URL:https://archiv.hosiwien.at/event/gays-and-theys-comedy-12/
LOCATION:Gugg\, Heumühlgasse 14\, Wien\, 1040
CATEGORIES:Café-Betrieb,kulturelle Veranstaltung
ATTACH;FMTTYPE=image/jpeg:https://archiv.hosiwien.at/img/image/2023/Gays-and-theys-05.08.jpeg
GEO:48.1961598;16.3617969
X-APPLE-STRUCTURED-LOCATION;VALUE=URI;X-ADDRESS=Gugg Heumühlgasse 14 Wien 1040;X-APPLE-RADIUS=500;X-TITLE=Heumühlgasse 14:geo:16.3617969,48.1961598
END:VEVENT
END:VCALENDAR