BEGIN:VCALENDAR
VERSION:2.0
PRODID:-//Homosexuelle Initiative (HOSI) Wien - ECPv5.16.4//NONSGML v1.0//EN
CALSCALE:GREGORIAN
METHOD:PUBLISH
X-WR-CALNAME:Homosexuelle Initiative (HOSI) Wien
X-ORIGINAL-URL:https://archiv.hosiwien.at
X-WR-CALDESC:Events for Homosexuelle Initiative (HOSI) Wien
REFRESH-INTERVAL;VALUE=DURATION:PT1H
X-Robots-Tag:noindex
X-PUBLISHED-TTL:PT1H
BEGIN:VTIMEZONE
TZID:Europe/Vienna
BEGIN:DAYLIGHT
TZOFFSETFROM:+0100
TZOFFSETTO:+0200
TZNAME:CEST
DTSTART:20230326T010000
END:DAYLIGHT
BEGIN:STANDARD
TZOFFSETFROM:+0200
TZOFFSETTO:+0100
TZNAME:CET
DTSTART:20231029T010000
END:STANDARD
END:VTIMEZONE
BEGIN:VEVENT
DTSTART;TZID=Europe/Vienna:20230806T183000
DTEND;TZID=Europe/Vienna:20230806T200000
DTSTAMP:20260422T033050
CREATED:20230511T062559Z
LAST-MODIFIED:20230801T133435Z
UID:95162-1691346600-1691352000@archiv.hosiwien.at
SUMMARY:Queer-Yoga
DESCRIPTION:🧘‍♀️ Vertretung für unseren regulären Yoga-Kurs in Wien 🌟 \nNamaste! \nFür unseren regulären Yoga-Kurs in Wien haben wir eine besondere Vertretung gefunden\, die mit viel Erfahrung und Hingabe eure Yogapraxis begleiten wird. \nTreffen wir uns am Sonntag\, 6. August um 18:30 im Gugg\, und tauchen gemeinsam in die Welt des Yoga ein. Unsere Vertretung hat im Mai 2023 eine umfangreiche Ausbildung zum Yogalehrer abgeschlossen und verfügt über Expertise in den Stilrichtungen Hatha Yoga und Vinyasa Yoga. Die yogische Philosophie ist ein integraler Bestandteil ihrer Lehre. \nIn diesem Kurs werden wir uns auf die traditionelle Praxis des Hatha Yoga konzentrieren. Egal ob du Anfänger oder Fortgeschrittener bist\, unsere Vertretung gestaltet die Stunden individuell und geht auf die Bedürfnisse jedes Teilnehmers ein. \nLasst uns gemeinsam eine harmonische und inspirierende Yogastunde erleben. Wir freuen uns auf eure Teilnahme! \nBitte beachtet\, dass diese Vertretung nur am 6. August anwesend sein wird\, danach ab dem 20. August findet der reguläre Kurs wie gewohnt statt. \nNamaste 🙏 \nDatum und Uhrzeit: sonntags von 18:30 – 20:00. Achtung: eventuelle Termin-oder Uhrzeit-Änderungen sind möglich\, daher bitte immer vorher den online-Kalender und/oder die Facebook-Seite checken! \nWir beginnen pünktlich und öffnen bereits um 18:00 für euch\, damit ihr euch umziehen könnt. \nOrt: Das Gugg – Heumühlgasse 14\, 1040 Wien \nEintritt: freie Spende \nKontakt: yoga@archiv.hosiwien.at
URL:https://archiv.hosiwien.at/event/queer-yoga-2023-08-06/
LOCATION:Gugg\, Heumühlgasse 14\, Wien\, 1040
CATEGORIES:Gruppen
GEO:48.1961598;16.3617969
X-APPLE-STRUCTURED-LOCATION;VALUE=URI;X-ADDRESS=Gugg Heumühlgasse 14 Wien 1040;X-APPLE-RADIUS=500;X-TITLE=Heumühlgasse 14:geo:16.3617969,48.1961598
END:VEVENT
END:VCALENDAR