BEGIN:VCALENDAR
VERSION:2.0
PRODID:-//Homosexuelle Initiative (HOSI) Wien - ECPv5.16.4//NONSGML v1.0//EN
CALSCALE:GREGORIAN
METHOD:PUBLISH
X-ORIGINAL-URL:https://archiv.hosiwien.at
X-WR-CALDESC:Events for Homosexuelle Initiative (HOSI) Wien
REFRESH-INTERVAL;VALUE=DURATION:PT1H
X-Robots-Tag:noindex
X-PUBLISHED-TTL:PT1H
BEGIN:VTIMEZONE
TZID:Europe/Vienna
BEGIN:DAYLIGHT
TZOFFSETFROM:+0100
TZOFFSETTO:+0200
TZNAME:CEST
DTSTART:20230326T010000
END:DAYLIGHT
BEGIN:STANDARD
TZOFFSETFROM:+0200
TZOFFSETTO:+0100
TZNAME:CET
DTSTART:20231029T010000
END:STANDARD
END:VTIMEZONE
BEGIN:VEVENT
DTSTART;TZID=Europe/Vienna:20230831T173000
DTEND;TZID=Europe/Vienna:20230831T230000
DTSTAMP:20260422T072728
CREATED:20210521T112042Z
LAST-MODIFIED:20230828T085719Z
UID:96278-1693503000-1693522800@archiv.hosiwien.at
SUMMARY:AUSFALL QYVIE - Queer Youth Vienna
DESCRIPTION:ACHTUNG: Ausfall!\nKrankheitsbedingt fällt der Jugendabend am 31.08.2023 leider aus.\nWir sehen euch am 07. September wieder! :) \nWir sind die junge Generation der HOSI Wien. Bei uns sind alle willkommen\, die queer und unter 29 sind. \nEs gibt gesellige Abende\, gelegentliche Events\, Infos und Workshops. Wenn du etwas wissen möchtest\, Hilfe brauchst oder einfach nur entspannt mit anderen LGBTIQ-Personen reden möchtest\, bist du bei uns richtig – unsere Abende sind locker und ungezwungen.\nDu musst in unserem Café\, dem Gugg\, nichts konsumieren\, und Mitglied in der HOSI Wien musst du natürlich auch nicht sein. \nWenn du Fragen hast oder uns zuerst einmal nur eine Nachricht schicken möchtest\, sind wir unter den folgenden Kanälen erreichbar: \nE-Mail: jugend@archiv.hosiwien.at \nInstagram: @hosi_jugend \nFacebook: Queer Youth Vienna QYVIE der HOSI Wien @queeryouthvienna \nHINWEIS: Das umfangreiche Serviceangebot der HOSI Wien wird durch ehrenamtliches Engagement erbracht. Wie du die wichtige Arbeit des Vereins durch Spende oder Mitgliedschaft unterstützen kannst\, erfährst du unter archiv.hosiwien.at/mitgliedschaft.
URL:https://archiv.hosiwien.at/event/queer-youth-vienna-qyvie-2-2021-07-29-2023-08-31/
LOCATION:Gugg\, Heumühlgasse 14\, Wien\, 1040
CATEGORIES:Gruppen
ATTACH;FMTTYPE=image/png:https://archiv.hosiwien.at/img/image/2020/b-lgbt.png
GEO:48.1961598;16.3617969
X-APPLE-STRUCTURED-LOCATION;VALUE=URI;X-ADDRESS=Gugg Heumühlgasse 14 Wien 1040;X-APPLE-RADIUS=500;X-TITLE=Heumühlgasse 14:geo:16.3617969,48.1961598
END:VEVENT
BEGIN:VEVENT
DTSTART;TZID=Europe/Vienna:20230831T200000
DTEND;TZID=Europe/Vienna:20230831T230000
DTSTAMP:20260422T072728
CREATED:20230524T163446Z
LAST-MODIFIED:20230828T092001Z
UID:95224-1693512000-1693522800@archiv.hosiwien.at
SUMMARY:AUSFALL QYVIE Improtheater Workshop
DESCRIPTION:ACHTUNG: Ausfall!\nKrankheitsbedingt fällt der Jugendabend am 31.08.2023 leider aus.\nWir sehen euch am 07. September wieder! :) \nLass den Impro-Funken überspringen beim QYVIE Jugendabend der HOSI! 🎭🎉\nBist du bereit für eine explosive Mischung aus Lachen\, Kreativität und improvisiertem Chaos? \nDann mach mit jeden letzten Donnerstag im Monat. \nWir spielen zusammen ein best of Improtheater. Übungen\, ganz ohne Druck oder Verpflichtungen.\nZusammen mit Jakob und Jo um 20 Uhr.
URL:https://archiv.hosiwien.at/event/qyvie-improtheater-workshop-2023-08-31/
LOCATION:Gugg\, Heumühlgasse 14\, Wien\, 1040
CATEGORIES:Workshop
ATTACH;FMTTYPE=image/jpeg:https://archiv.hosiwien.at/img/image/2023/Impro-QYVIE.jpg
GEO:48.1961598;16.3617969
X-APPLE-STRUCTURED-LOCATION;VALUE=URI;X-ADDRESS=Gugg Heumühlgasse 14 Wien 1040;X-APPLE-RADIUS=500;X-TITLE=Heumühlgasse 14:geo:16.3617969,48.1961598
END:VEVENT
END:VCALENDAR