BEGIN:VCALENDAR
VERSION:2.0
PRODID:-//Homosexuelle Initiative (HOSI) Wien - ECPv5.16.4//NONSGML v1.0//EN
CALSCALE:GREGORIAN
METHOD:PUBLISH
X-WR-CALNAME:Homosexuelle Initiative (HOSI) Wien
X-ORIGINAL-URL:https://archiv.hosiwien.at
X-WR-CALDESC:Events for Homosexuelle Initiative (HOSI) Wien
REFRESH-INTERVAL;VALUE=DURATION:PT1H
X-Robots-Tag:noindex
X-PUBLISHED-TTL:PT1H
BEGIN:VTIMEZONE
TZID:Europe/Vienna
BEGIN:DAYLIGHT
TZOFFSETFROM:+0100
TZOFFSETTO:+0200
TZNAME:CEST
DTSTART:20230326T010000
END:DAYLIGHT
BEGIN:STANDARD
TZOFFSETFROM:+0200
TZOFFSETTO:+0100
TZNAME:CET
DTSTART:20231029T010000
END:STANDARD
END:VTIMEZONE
BEGIN:VEVENT
DTSTART;TZID=Europe/Vienna:20230901T190000
DTEND;TZID=Europe/Vienna:20230901T233000
DTSTAMP:20260422T044736
CREATED:20230519T134244Z
LAST-MODIFIED:20230816T125932Z
UID:95201-1693594800-1693611000@archiv.hosiwien.at
SUMMARY:Gays and Theys - Comedy Turns 2!
DESCRIPTION:18+ \nGays and Theys turns 2 years old! We’d like to show our gratitude by celebrating our anniversary together in a very special event :) \nWe’ve had an amazing second year of queer comedy and none of it would have been possible without all of you 🙂 \nFirst\, the Gays and Theys trio Emily Thornhill\, Lin Riva and Aislinn Kane will make you laugh with their best jokes in a stand-up comedy show hosted by one of our favourite guest comedians\, the amazing Shane Callaghan! \nAfter that\, we will continue celebrating together at Hosi’s Gugg 🙂 \nTickets: 12€ online / 15€ at the door (cash only) \nStudent and group discounts available online! \nTickets: Gays and Theys – Comedy Turns 2! Tickets\, Fri\, Sep 1\, 2023 at 7:00 PM | Eventbrite \nGays and Theys – Comedy is a project by Aislinn Kane\, Lin Riva and Emily Thornhill.
URL:https://archiv.hosiwien.at/event/gays-and-theys-comedy-12-2023-09-01/
LOCATION:Gugg\, Heumühlgasse 14\, Wien\, 1040
CATEGORIES:Café-Betrieb,kulturelle Veranstaltung
ATTACH;FMTTYPE=image/jpeg:https://archiv.hosiwien.at/img/image/2023/gays-and-theys-01.09.jpeg
GEO:48.1961598;16.3617969
X-APPLE-STRUCTURED-LOCATION;VALUE=URI;X-ADDRESS=Gugg Heumühlgasse 14 Wien 1040;X-APPLE-RADIUS=500;X-TITLE=Heumühlgasse 14:geo:16.3617969,48.1961598
END:VEVENT
END:VCALENDAR