BEGIN:VCALENDAR
VERSION:2.0
PRODID:-//Homosexuelle Initiative (HOSI) Wien - ECPv5.16.4//NONSGML v1.0//EN
CALSCALE:GREGORIAN
METHOD:PUBLISH
X-WR-CALNAME:Homosexuelle Initiative (HOSI) Wien
X-ORIGINAL-URL:https://archiv.hosiwien.at
X-WR-CALDESC:Events for Homosexuelle Initiative (HOSI) Wien
REFRESH-INTERVAL;VALUE=DURATION:PT1H
X-Robots-Tag:noindex
X-PUBLISHED-TTL:PT1H
BEGIN:VTIMEZONE
TZID:Europe/Vienna
BEGIN:DAYLIGHT
TZOFFSETFROM:+0100
TZOFFSETTO:+0200
TZNAME:CEST
DTSTART:20230326T010000
END:DAYLIGHT
BEGIN:STANDARD
TZOFFSETFROM:+0200
TZOFFSETTO:+0100
TZNAME:CET
DTSTART:20231029T010000
END:STANDARD
END:VTIMEZONE
BEGIN:VEVENT
DTSTART;TZID=Europe/Vienna:20230905T190000
DTEND;TZID=Europe/Vienna:20230905T230000
DTSTAMP:20260422T084536
CREATED:20230710T103850Z
LAST-MODIFIED:20230829T083332Z
UID:95697-1693940400-1693954800@archiv.hosiwien.at
SUMMARY:Kennenlern-Event WERDE TEIL DES HOSI-TEAMS
DESCRIPTION:Du hast Lust auf Aktivismus\, weißt aber noch nicht wie du dich einbringen kannst?\nDann komm zu unserem Kennenlern-Event und erfahre mehr über unsere vielfältigen Arbeitsgruppen. \nVom Projekt FLAGincluded\, unserem Vereinsmagazin LAMBDA bis zum Organisationsteam für den Wiener Regenbogenball gibt es viele Möglichkeiten sich zu engagieren. \nKomm vorbei\, lerne uns kennen und arbeite mit in der größten Interessensvertretung für LGBTIQ+-Menschen in Österreich. \nWir freuen uns auf dich! \n  \nWann? 05.09.2023\, ab 19:00 Uhr \nWo? Das Gugg\, Heumühlgasse 14/1\, 1040 Wien \n  \n– Diese Veranstaltung ist leider nicht barrierefrei\, da wir aus finanziellen Gründen keine professionelle Dolmetschung zur Verfügung stellen können. –
URL:https://archiv.hosiwien.at/event/kennenlern-event-werde-teil-des-hosi-teams/
LOCATION:Gugg\, Heumühlgasse 14\, Wien\, 1040
CATEGORIES:Infoveranstaltung
ATTACH;FMTTYPE=image/jpeg:https://archiv.hosiwien.at/img/image/2023/Lust-auf-Aktivismus.jpg
ORGANIZER;CN="HOSI%20Wien":MAILTO:office@archiv.hosiwien.at
GEO:48.1961598;16.3617969
X-APPLE-STRUCTURED-LOCATION;VALUE=URI;X-ADDRESS=Gugg Heumühlgasse 14 Wien 1040;X-APPLE-RADIUS=500;X-TITLE=Heumühlgasse 14:geo:16.3617969,48.1961598
END:VEVENT
END:VCALENDAR