BEGIN:VCALENDAR
VERSION:2.0
PRODID:-//Homosexuelle Initiative (HOSI) Wien - ECPv5.16.4//NONSGML v1.0//EN
CALSCALE:GREGORIAN
METHOD:PUBLISH
X-WR-CALNAME:Homosexuelle Initiative (HOSI) Wien
X-ORIGINAL-URL:https://archiv.hosiwien.at
X-WR-CALDESC:Events for Homosexuelle Initiative (HOSI) Wien
REFRESH-INTERVAL;VALUE=DURATION:PT1H
X-Robots-Tag:noindex
X-PUBLISHED-TTL:PT1H
BEGIN:VTIMEZONE
TZID:Europe/Vienna
BEGIN:DAYLIGHT
TZOFFSETFROM:+0100
TZOFFSETTO:+0200
TZNAME:CEST
DTSTART:20230326T010000
END:DAYLIGHT
BEGIN:STANDARD
TZOFFSETFROM:+0200
TZOFFSETTO:+0100
TZNAME:CET
DTSTART:20231029T010000
END:STANDARD
END:VTIMEZONE
BEGIN:VEVENT
DTSTART;TZID=Europe/Vienna:20230930T120000
DTEND;TZID=Europe/Vienna:20230930T170000
DTSTAMP:20260422T084541
CREATED:20230824T105441Z
LAST-MODIFIED:20230829T083515Z
UID:96425-1696075200-1696093200@archiv.hosiwien.at
SUMMARY:43. ordentliche Generalversammlung
DESCRIPTION:Was hat sich im vergangenen Vereinsjahr in der HOSI Wien getan und was ist für das kommende Jahr geplant? Wer wird den Verein in der kommenden Periode im geschäftsführenden Vorstand leiten?\nAll diese Fragen beantworten\, bzw. wählen wir bei unserer 43. ordentlichen Generalversammlung\, zu der wir unsere Vereinsmitglieder herzlich einladen.\nKommt vorbei\, wir freuen uns auf euch! \nDu willst selbst kandidieren oder Anträge stellen? Einreich-Schluss dafür ist am 20. September um 12:00 Uhr. \nDie Generalversammlung ist exklusiv für Mitglieder zugänglich.\n30. September 2023\, 12:00 Uhr\n„Das Gugg“\, Heumühlgasse 14/1\, 1040 Wien \nDu bist noch kein Mitglied? Werde es jetzt unter archiv.hosiwien.at/Beitritt \n– Diese Veranstaltung ist leider nicht barrierefrei\, da wir aus finanziellen Gründen keine professionelle Dolmetschung zur Verfügung stellen können. –
URL:https://archiv.hosiwien.at/event/43-ordentliche-generalversammlung/
LOCATION:Gugg\, Heumühlgasse 14\, Wien\, 1040
CATEGORIES:Information
ATTACH;FMTTYPE=image/jpeg:https://archiv.hosiwien.at/img/image/2023/Generalversammlung.jpg
GEO:48.1961598;16.3617969
X-APPLE-STRUCTURED-LOCATION;VALUE=URI;X-ADDRESS=Gugg Heumühlgasse 14 Wien 1040;X-APPLE-RADIUS=500;X-TITLE=Heumühlgasse 14:geo:16.3617969,48.1961598
END:VEVENT
END:VCALENDAR