BEGIN:VCALENDAR
VERSION:2.0
PRODID:-//Homosexuelle Initiative (HOSI) Wien - ECPv5.16.4//NONSGML v1.0//EN
CALSCALE:GREGORIAN
METHOD:PUBLISH
X-ORIGINAL-URL:https://archiv.hosiwien.at
X-WR-CALDESC:Events for Homosexuelle Initiative (HOSI) Wien
REFRESH-INTERVAL;VALUE=DURATION:PT1H
X-Robots-Tag:noindex
X-PUBLISHED-TTL:PT1H
BEGIN:VTIMEZONE
TZID:Europe/Vienna
BEGIN:DAYLIGHT
TZOFFSETFROM:+0100
TZOFFSETTO:+0200
TZNAME:CEST
DTSTART:20230326T010000
END:DAYLIGHT
BEGIN:STANDARD
TZOFFSETFROM:+0200
TZOFFSETTO:+0100
TZNAME:CET
DTSTART:20231029T010000
END:STANDARD
END:VTIMEZONE
BEGIN:VEVENT
DTSTART;TZID=Europe/Vienna:20231007T190000
DTEND;TZID=Europe/Vienna:20231007T233000
DTSTAMP:20260423T012909
CREATED:20230519T134244Z
LAST-MODIFIED:20230914T081458Z
UID:95202-1696705200-1696721400@archiv.hosiwien.at
SUMMARY:Gays and Theys – Comedy
DESCRIPTION:Shane Callaghan burst onto the comedy scene just one year ago but has already had sell out solo shows from Dublin to Istanbul. He was born funny and has spent most of his life as a walking joke. From Ireland\, he turned professional some time ago and has entertained audiences in 7 countries including the Edinburgh comedy festival. \nWell\, Hello Vienna is a one hour comedy special described as irreverent and delightfully escapist. We hope you enjoy the show! \nHosted by: Aislinn Kane \nOpening acts: Emily Thornhill\, Lin Riva \nTickets: 12€ online/ 15€ at the door \nStudent and group discounts available \n  \nTickets
URL:https://archiv.hosiwien.at/event/gays-and-theys-comedy-12-2023-10-07/
LOCATION:Gugg\, Heumühlgasse 14\, Wien\, 1040
CATEGORIES:Café-Betrieb,kulturelle Veranstaltung
ATTACH;FMTTYPE=image/jpeg:https://archiv.hosiwien.at/img/image/2023/Gays-and-theys-07.10.jpg
GEO:48.1961598;16.3617969
X-APPLE-STRUCTURED-LOCATION;VALUE=URI;X-ADDRESS=Gugg Heumühlgasse 14 Wien 1040;X-APPLE-RADIUS=500;X-TITLE=Heumühlgasse 14:geo:16.3617969,48.1961598
END:VEVENT
END:VCALENDAR