BEGIN:VCALENDAR
VERSION:2.0
PRODID:-//Homosexuelle Initiative (HOSI) Wien - ECPv5.16.4//NONSGML v1.0//EN
CALSCALE:GREGORIAN
METHOD:PUBLISH
X-WR-CALNAME:Homosexuelle Initiative (HOSI) Wien
X-ORIGINAL-URL:https://archiv.hosiwien.at
X-WR-CALDESC:Events for Homosexuelle Initiative (HOSI) Wien
REFRESH-INTERVAL;VALUE=DURATION:PT1H
X-Robots-Tag:noindex
X-PUBLISHED-TTL:PT1H
BEGIN:VTIMEZONE
TZID:Europe/Vienna
BEGIN:DAYLIGHT
TZOFFSETFROM:+0100
TZOFFSETTO:+0200
TZNAME:CEST
DTSTART:20230326T010000
END:DAYLIGHT
BEGIN:STANDARD
TZOFFSETFROM:+0200
TZOFFSETTO:+0100
TZNAME:CET
DTSTART:20231029T010000
END:STANDARD
END:VTIMEZONE
BEGIN:VEVENT
DTSTART;TZID=Europe/Vienna:20231010T183000
DTEND;TZID=Europe/Vienna:20231010T210000
DTSTAMP:20260422T153654
CREATED:20230919T084519Z
LAST-MODIFIED:20230919T091405Z
UID:96571-1696962600-1696971600@archiv.hosiwien.at
SUMMARY:Lesung: Jürgen Pettinger „Dorothea – Queere Heldin unterm Hakenkreuz“
DESCRIPTION:Am Dienstag\, den 10. Oktober 2023\, laden wir euch um 19 Uhr zur Lesung von „Dorothea – Queere Heldin unterm Hakenkreuz“ mit Autor Jürgen Pettinger ein. Im Anschluss besteht die Möglichkeit mit dem Autor zu diskutieren\, Fragen zu stellen und sein Buch zu erwerben. \nEinlass: 18.30 Uhr \nBeginn: 19.00 Uhr \nEnde: 21.00 Uhr \nOrt: Das Gugg\, Heumühlgasse 14/1\, 1040 Wien \nModeration: Frau Blau \nBüchertisch: Buchhandlung Löwenherz \n\n\n\nDie berühmte Schauspielerin Dorothea Neff (1903-1986) nahm ab 1940 ihre jüdische Freundin Lilli Wolf als U-Boot in ihrer Wohnung auf. Mit viel Mut\, Opferbereitschaft und List gelang die Geheimhaltung. Aber 1944 musste Lilli mit einem Tumor in der Brust ins Krankenhaus. Wie sollte sie operiert werden\, ohne aufzufliegen? Jürgen Pettinger rollt den Fall neu auf\, spürt in den Dokumenten und von ihm wiederentdeckten Tonaufnahmen der Beziehung der beiden Frauen nach und zeigt\, dass queere Aktivist*innen von heute auf den Schultern der queeren Held*innen von damals stehen. \n  \nZum Autor \nJürgen Pettinger wurde 1976 in Linz geboren\, studierte Wirtschaft & Management in Innsbruck und ist Journalist (ORF) und Autor. Seine Features und Reportagen für TV und Radio wurden mit mehreren namhaften Journalismus-Preisen ausgezeichnet\, u.a. mit dem Prof. Claus Gatterer-Preis und dem deutschen doKKa-Preis. In seinen Büchern spürt er den Biografien außergewöhnlicher Menschen nach und erzählt detailliert recherchierte\, auf wahren Begebenheiten beruhende Geschichten.  \nFoto: Jürgen Pettinger (c) Manfred Weiß
URL:https://archiv.hosiwien.at/event/lesung-juergen-pettinger-dorothea-queere-heldin-unterm-hakenkreuz/
LOCATION:Gugg\, Heumühlgasse 14\, Wien\, 1040
CATEGORIES:kulturelle Veranstaltung
ATTACH;FMTTYPE=image/jpeg:https://archiv.hosiwien.at/img/image/2023/Pettinger-c-Manfred-Weis.jpg
GEO:48.1961598;16.3617969
X-APPLE-STRUCTURED-LOCATION;VALUE=URI;X-ADDRESS=Gugg Heumühlgasse 14 Wien 1040;X-APPLE-RADIUS=500;X-TITLE=Heumühlgasse 14:geo:16.3617969,48.1961598
END:VEVENT
END:VCALENDAR