BEGIN:VCALENDAR
VERSION:2.0
PRODID:-//Homosexuelle Initiative (HOSI) Wien - ECPv5.16.4//NONSGML v1.0//EN
CALSCALE:GREGORIAN
METHOD:PUBLISH
X-WR-CALNAME:Homosexuelle Initiative (HOSI) Wien
X-ORIGINAL-URL:https://archiv.hosiwien.at
X-WR-CALDESC:Events for Homosexuelle Initiative (HOSI) Wien
REFRESH-INTERVAL;VALUE=DURATION:PT1H
X-Robots-Tag:noindex
X-PUBLISHED-TTL:PT1H
BEGIN:VTIMEZONE
TZID:Europe/Vienna
BEGIN:DAYLIGHT
TZOFFSETFROM:+0100
TZOFFSETTO:+0200
TZNAME:CEST
DTSTART:20230326T010000
END:DAYLIGHT
BEGIN:STANDARD
TZOFFSETFROM:+0200
TZOFFSETTO:+0100
TZNAME:CET
DTSTART:20231029T010000
END:STANDARD
END:VTIMEZONE
BEGIN:VEVENT
DTSTART;TZID=Europe/Vienna:20231028T140000
DTEND;TZID=Europe/Vienna:20231028T200000
DTSTAMP:20260422T113408
CREATED:20231011T140142Z
LAST-MODIFIED:20231018T090351Z
UID:96734-1698501600-1698523200@archiv.hosiwien.at
SUMMARY:AceAro Wien Spielenachmittag
DESCRIPTION:Wir treffen uns wieder mal zum Spiele spielen! \nAm Samstag 28en Oktober ist wieder AceAro Spielenachmittag. Von 14:00 bis 20:00 könnt ihr euch zusammenfinden\, um Catan zu besiedeln\, euch gegenseitig +4 Uno Karten umzuhängen oder völlig neue Spiele auzuprobieren! Gerne könnt ihr auch eure eigenen Spiele und Snacks mitbringen. \nWie immer ist es auch nicht verpflichtend\, euer Können mit Würfel und Karte unter Beweis zu stellen. Ihr könnt auch einfach auf eine nette Unterhaltung vorbei kommen! \nSowohl Stammgäste als auch neue Gesichter sind herzlich willkommen! Auch\, wenn ihr euch unsicher seid\, ob ihr auf dem A*Spec seid\, stehen euch unsere Türen offen. Wer sich nicht alleine traut vorbei zu kommen\, darf auch gerne eine*n Freund*in mitbringen. \nWir freuen uns auf euch!
URL:https://archiv.hosiwien.at/event/acearo-wien-spielenachmittag/
LOCATION:Gugg\, Heumühlgasse 14\, Wien\, 1040
ATTACH;FMTTYPE=image/jpeg:https://archiv.hosiwien.at/img/image/2023/231025-Spielenachmittag.jpg
GEO:48.1961598;16.3617969
X-APPLE-STRUCTURED-LOCATION;VALUE=URI;X-ADDRESS=Gugg Heumühlgasse 14 Wien 1040;X-APPLE-RADIUS=500;X-TITLE=Heumühlgasse 14:geo:16.3617969,48.1961598
END:VEVENT
BEGIN:VEVENT
DTSTART;TZID=Europe/Vienna:20231028T203000
DTEND;TZID=Europe/Vienna:20231029T000000
DTSTAMP:20260422T113408
CREATED:20231018T090709Z
LAST-MODIFIED:20231018T091759Z
UID:96762-1698525000-1698537600@archiv.hosiwien.at
SUMMARY:Hocus Pocus Movie Night
DESCRIPTION:Hocus Pocus Movie Night and\nmeet Vienna´s Sanderson Sisters \nAm 28.10.\, ab 20:30 Uhr\, laden wir euch zum gemeinsamen Schauen des Filmklassikers „Hocus Pocus“ ein.\nAbrunden wird dieses Pre-Halloween-Event eine grandiose Performance der Wiener Sanderson Sisters\, Safeara DeVil\, Fräulein Bürgerschreck und Lady Phoenix. Natürlich dürft ihr auch eure Halloweenkostüme ein erstes Mal heuer ausführen. ✨\nDer Eintritt ist frei. Wir freuen uns auf euch. \nSamstag\, 28.10.2023\, 20:30 Uhr\n„Das Gugg“\nHeumühlgasse 14/1\n1040 Wien \nDen Film werden wir auf Englisch mit deutschen Untertiteln anschauen.
URL:https://archiv.hosiwien.at/event/hocus-pocus-movie-night/
LOCATION:Gugg\, Heumühlgasse 14\, Wien\, 1040
CATEGORIES:kulturelle Veranstaltung
ATTACH;FMTTYPE=image/jpeg:https://archiv.hosiwien.at/img/image/2023/Hocus-Pocus.jpg
GEO:48.1961598;16.3617969
X-APPLE-STRUCTURED-LOCATION;VALUE=URI;X-ADDRESS=Gugg Heumühlgasse 14 Wien 1040;X-APPLE-RADIUS=500;X-TITLE=Heumühlgasse 14:geo:16.3617969,48.1961598
END:VEVENT
END:VCALENDAR