BEGIN:VCALENDAR
VERSION:2.0
PRODID:-//Homosexuelle Initiative (HOSI) Wien - ECPv5.16.4//NONSGML v1.0//EN
CALSCALE:GREGORIAN
METHOD:PUBLISH
X-ORIGINAL-URL:https://archiv.hosiwien.at
X-WR-CALDESC:Events for Homosexuelle Initiative (HOSI) Wien
REFRESH-INTERVAL;VALUE=DURATION:PT1H
X-Robots-Tag:noindex
X-PUBLISHED-TTL:PT1H
BEGIN:VTIMEZONE
TZID:Europe/Vienna
BEGIN:DAYLIGHT
TZOFFSETFROM:+0100
TZOFFSETTO:+0200
TZNAME:CEST
DTSTART:20230326T010000
END:DAYLIGHT
BEGIN:STANDARD
TZOFFSETFROM:+0200
TZOFFSETTO:+0100
TZNAME:CET
DTSTART:20231029T010000
END:STANDARD
END:VTIMEZONE
BEGIN:VEVENT
DTSTART;TZID=Europe/Vienna:20231029T180000
DTEND;TZID=Europe/Vienna:20231029T193000
DTSTAMP:20260423T024826
CREATED:20230925T100056Z
LAST-MODIFIED:20231027T085052Z
UID:96618-1698602400-1698607800@archiv.hosiwien.at
SUMMARY:Queer-Yoga - Ausfall!
DESCRIPTION:Aufgrund des Feiertags findet am 29.10. kein Yoga statt. \n🧘‍♀️ Vertretung für unseren regulären Yoga-Kurs in Wien 🌟 \nNamaste\, liebe Yogis und Yoginis! \nFür unseren regulären Yoga-Kurs in Wien haben wir mit Florian eine besondere Vertretung gefunden\, die mit Hingabe eure Yogapraxis begleiten wird.\nTreffen wir uns  im Gugg und tauchen gemeinsam in die Welt des Yoga ein. Unsere Vertretung hat im Mai 2023 eine umfangreiche Ausbildung zum Yogalehrer abgeschlossen und verfügt über Expertise in den Stilrichtungen Hatha Yoga und Vinyasa Yoga. Die yogische Philosophie ist ein integraler Bestandteil ihrer Lehre. \nIn diesem Kurs werden wir uns auf die traditionelle Praxis des Hatha Yoga und Meditation konzentrieren. Egal ob du Anfänger*in oder Fortgeschrittene*r bist\, unsere Vertretung gestaltet die Stunden individuell und geht auf die Bedürfnisse aller Teilnehmer*innen ein. \nLasst uns gemeinsam eine harmonische und inspirierende Yogastunde erleben. Wir freuen uns auf eure Teilnahme! \nNamaste 🙏 \nBitte kommt in bequemer\, lockerer Kleidung und bringt eine eigene Yogamatte mit. Es gibt vor Ort eine begrenzte Anzahl von Yogamatten zur Verfügung.\n \nDatum und Uhrzeit: sonntags\, ab dem 15. Oktober von 18:00 bis 19:30. Achtung: eventuelle Termin-oder Uhrzeit-Änderungen sind möglich\, daher bitte immer vorher den online-Kalender und/oder die Facebook-Seite checken! \nWir beginnen pünktlich und öffnen bereits um ca. 17:30 für euch\, damit ihr euch umziehen könnt. \nOrt: Das Gugg – Heumühlgasse 14\, 1040 Wien \nEintritt: freie Spende \nKontakt: yoga@archiv.hosiwien.at
URL:https://archiv.hosiwien.at/event/queer-yoga-2023_10_2-2023-10-29/
LOCATION:Gugg\, Heumühlgasse 14\, Wien\, 1040
CATEGORIES:Gruppen
GEO:48.1961598;16.3617969
X-APPLE-STRUCTURED-LOCATION;VALUE=URI;X-ADDRESS=Gugg Heumühlgasse 14 Wien 1040;X-APPLE-RADIUS=500;X-TITLE=Heumühlgasse 14:geo:16.3617969,48.1961598
END:VEVENT
END:VCALENDAR