BEGIN:VCALENDAR
VERSION:2.0
PRODID:-//Homosexuelle Initiative (HOSI) Wien - ECPv5.16.4//NONSGML v1.0//EN
CALSCALE:GREGORIAN
METHOD:PUBLISH
X-WR-CALNAME:Homosexuelle Initiative (HOSI) Wien
X-ORIGINAL-URL:https://archiv.hosiwien.at
X-WR-CALDESC:Events for Homosexuelle Initiative (HOSI) Wien
REFRESH-INTERVAL;VALUE=DURATION:PT1H
X-Robots-Tag:noindex
X-PUBLISHED-TTL:PT1H
BEGIN:VTIMEZONE
TZID:Europe/Vienna
BEGIN:DAYLIGHT
TZOFFSETFROM:+0100
TZOFFSETTO:+0200
TZNAME:CEST
DTSTART:20230326T010000
END:DAYLIGHT
BEGIN:STANDARD
TZOFFSETFROM:+0200
TZOFFSETTO:+0100
TZNAME:CET
DTSTART:20231029T010000
END:STANDARD
END:VTIMEZONE
BEGIN:VEVENT
DTSTART;TZID=Europe/Vienna:20231116T173000
DTEND;TZID=Europe/Vienna:20231116T213000
DTSTAMP:20260422T135901
CREATED:20231102T141505Z
LAST-MODIFIED:20231102T141505Z
UID:96860-1700155800-1700170200@archiv.hosiwien.at
SUMMARY:Aids Hilfe: Testung bei der Queer Youth Vienna
DESCRIPTION:Am 11. November kommt wieder die Aids Hilfe Wien zu uns und hat sich bereit erklärt die Besucher*innen des Jugendabends kostenlos zu testen!\nDie Blutabnahme findet im Salon Helga statt und wie immer werden Vor- und Nachbesprechungen angeboten.\n\nWir freuen uns auf zahlreiches Kommen!\n\nInformationen zur Aids Hilfe Wien: Aids Hilfe Wien – Testen. Behandeln. Vorbeugen.
URL:https://archiv.hosiwien.at/event/aids-hilfe-testung-bei-der-queer-youth-vienna/2023-11-16/
LOCATION:Gugg\, Heumühlgasse 14\, Wien\, 1040
ATTACH;FMTTYPE=image/png:https://archiv.hosiwien.at/img/image/2023/ahw-logo.png
GEO:48.1961598;16.3617969
X-APPLE-STRUCTURED-LOCATION;VALUE=URI;X-ADDRESS=Gugg Heumühlgasse 14 Wien 1040;X-APPLE-RADIUS=500;X-TITLE=Heumühlgasse 14:geo:16.3617969,48.1961598
END:VEVENT
END:VCALENDAR