BEGIN:VCALENDAR
VERSION:2.0
PRODID:-//Homosexuelle Initiative (HOSI) Wien - ECPv5.16.4//NONSGML v1.0//EN
CALSCALE:GREGORIAN
METHOD:PUBLISH
X-WR-CALNAME:Homosexuelle Initiative (HOSI) Wien
X-ORIGINAL-URL:https://archiv.hosiwien.at
X-WR-CALDESC:Events for Homosexuelle Initiative (HOSI) Wien
REFRESH-INTERVAL;VALUE=DURATION:PT1H
X-Robots-Tag:noindex
X-PUBLISHED-TTL:PT1H
BEGIN:VTIMEZONE
TZID:Europe/Vienna
BEGIN:DAYLIGHT
TZOFFSETFROM:+0100
TZOFFSETTO:+0200
TZNAME:CEST
DTSTART:20230326T010000
END:DAYLIGHT
BEGIN:STANDARD
TZOFFSETFROM:+0200
TZOFFSETTO:+0100
TZNAME:CET
DTSTART:20231029T010000
END:STANDARD
END:VTIMEZONE
BEGIN:VEVENT
DTSTART;TZID=Europe/Vienna:20231126T130000
DTEND;TZID=Europe/Vienna:20231126T180000
DTSTAMP:20260422T180150
CREATED:20230928T100308Z
LAST-MODIFIED:20231123T094737Z
UID:96644-1701003600-1701021600@archiv.hosiwien.at
SUMMARY:ABGESAGT - Ruth Maier - kreative Schreibwerkstatt
DESCRIPTION:!Wegen Krankheit leider abgesagt! \nMit der Bibliotheksbenennung am 24. Oktober 2023\, 19:30 Uhr\, gedenkt die Homosexuelle Initiative (HOSI) Wien an Ruth Maier. Das Antifaschistische Komitee der HOSI Wien engagiert sich seit vielen Jahren im Bereich der Erinnerungskultur und setzt sich mit nichtnormativen Sexualitäten sowie Geschlechtsidentitäten im Nationalsozialismus auseinander. Ruth Maier wurde am 10. November 1920 in Wien geboren\, konnte im Jänner 1939 nach Norwegen fliehen\, wurde in Oslo am 26. November 1942 verhaftet\, mit dem Schiff Donau nach Stettin und von dort nach Auschwitz verbracht\, wo sie\, nach ihrer Ankunft\, am 1. Dezember 1942\, vergast wurde. \nIm Kontext der Bibliotheksbenennung wird bis 1. Dezember die Ausstellung Das kurze Leben der Ruth Maier. Wien – Oslo – Auschwitz des Dokumentationsarchivs des österreichischen Widerstandes\, DÖW\, Wien\, gezeigt. Für eine weitere Ausstellung setzten sich Künstler*innen mit Ruth Maier auseinander: Norma del Camino\, Barbara Fröhlich\, Sophie Krüger\, Petra Paul\, Petra Röbl\, Sabine Schwaighofer\, Marie Thur und Brigitte Zika. \nEröffnung durch Ann-Sophie Otte (Obfrau der HOSI Wien)\, Lisa Hermanns (LesBiFem-Referentin)\, Barbara Fröhlich (ehem. Lesben*referentin)\, Prof.in Mag.a Hannah Lessing (Nationalfonds der Republik Österreich für Opfer des Nationalsozialismus)\, Dr. Winfried R. Garscha (Dokumentationsarchiv des österreichischen Widerstandes\, DÖW\, Wien) und Mag.ª Petra M. Springer (Kunsthistorikerin und Kuratorin). \nAm 14. November wird um 19:30 Uhr die Menschen & Mächte-Doku von Robert Gokl\, Ruth Maier – die Anne Frank von Österreich\, gezeigt\, in der Schauspielerin Martina Ebm aus den Tagebüchern liest und Stationen des Lebens von Ruth Maier aufsucht. \nWeiters findet eine kreative Schreibwerkstatt\, geleitet von der Schreibpädagogin und Autorin Norma del Camino\, statt: 25. und 26. November 2023\, zwischen 13:00 und 18:00 Uhr; Anmeldung bis 14. November 2023 an barbara.froehlich@archiv.hosiwien.at; \nUKB: freiwillige Spenden; Präsentation: 28. November\, 19:30 Uhr. \nEine Publikation mit Beiträgen von u. a. Ann-Sophie Otte und Lisa Hermanns (HOSI Wien)\, Hannah Lessing (Nationalfonds der Republik Österreich für Opfer des Nationalsozialismus)\, Doris Hermanns (FemBio Frauen-Biographieforschung)\, Winfried R. Garscha (DÖW)\, Konstanze Sailer (Memory Gaps ::: Erinnerungslücken) und Petra M. Springer soll das Leben der von den Nationalsozialisten ermordeten Ruth Maier einer noch breiteren Öffentlichkeit zugänglich machen. Auch die Künstler*innen präsentieren darin ihre Auseinandersetzung. Die deutsche Ausgabe wird gedruckt und zur freien Entnahme aufliegen. Eine englische Version wird auf die Homepage der HOSI Wien https://archiv.hosiwien.at online gestellt\, ebenso die Ergebnisse der Schreibwerkstatt.
URL:https://archiv.hosiwien.at/event/ruth-maier-kreative-schreibwerkstatt/2023-11-26/
LOCATION:Gugg\, Heumühlgasse 14\, Wien\, 1040
CATEGORIES:kulturelle Veranstaltung
ATTACH;FMTTYPE=image/jpeg:https://archiv.hosiwien.at/img/image/2023/HOSI-Wien_Ruth-Maier_Absage_Schreibwerkstatt.jpg
GEO:48.1961598;16.3617969
X-APPLE-STRUCTURED-LOCATION;VALUE=URI;X-ADDRESS=Gugg Heumühlgasse 14 Wien 1040;X-APPLE-RADIUS=500;X-TITLE=Heumühlgasse 14:geo:16.3617969,48.1961598
END:VEVENT
BEGIN:VEVENT
DTSTART;TZID=Europe/Vienna:20231126T180000
DTEND;TZID=Europe/Vienna:20231126T193000
DTSTAMP:20260422T180150
CREATED:20230907T124825Z
LAST-MODIFIED:20231009T085852Z
UID:96532-1701021600-1701027000@archiv.hosiwien.at
SUMMARY:Queer-Yoga
DESCRIPTION:Warum Queer-Yoga? Dafür gibt es so viele Gründe wie Farben im Regenbogen. Gemeinsam im Hier und Jetzt ankommen. Die Dinge\, deine Gefühle\, deinen Körper\, so anzunehmen\, wie sie sind. Achtsam mit sich und dem Umfeld umgehen. Die Abwehrkräfte stärken\, immer so wichtig. Tief einatmen\, tief ausatmen. Den Körper spüren\, alle Muskeln einsetzen vom kleinsten zum größten. Die Verbundenheit untereinander in einer Gruppe erleben. \nMatías ist unser Yogi\, der uns auf eine Reise durch die Welt von Hatha und Vinyasa Yoga mitnimmt. Du kannst mit diesen Begriffen nichts anfangen? Kein Problem\, er holt dich als Anfänger*in dort ab wo du gerade bist. Leitet an\, wo nötig\, gibt Tipps für leichtere Varianten und achtet bei jedem/r Teilnehmer*in auf die richtige Ausführung. \nIn jeder Yoga-Einheit werden deine Chakras\, Muskeln und Sehnen durch Dreh-\, Beuge- und Dehnübungen der verschiedenen Asanas aktiviert\, vom Kronen Chakra bis hin zu den Zehenspitzen. \nEin Safe Space in der Queer-Community\, jede*r ist willkommen: das Angebot richtet sich an alle LGBTIQ*s und ihre Freund*innen. \nBitte kommt in bequemer\, lockerer Kleidung und bringt eine eigene Yogamatte mit. Es gibt vor Ort eine begrenzte Anzahl von Yogamatten zur Verfügung.\n \nDatum und Uhrzeit: sonntags\, von 18:00 – 19:30. Achtung: eventuelle Termin-oder Uhrzeit-Änderungen sind möglich\, daher bitte immer vorher den online-Kalender und/oder die Facebook-Seite checken! \nWir beginnen pünktlich und öffnen bereits um ca. 17:30 für euch\, damit ihr euch umziehen könnt. \nOrt: Das Gugg – Heumühlgasse 14\, 1040 Wien \nEintritt: freie Spende \nKontakt: yoga@archiv.hosiwien.at
URL:https://archiv.hosiwien.at/event/queer-yoga-2023_12/2023-11-26/
LOCATION:Gugg\, Heumühlgasse 14\, Wien\, 1040
CATEGORIES:Gruppen
GEO:48.1961598;16.3617969
X-APPLE-STRUCTURED-LOCATION;VALUE=URI;X-ADDRESS=Gugg Heumühlgasse 14 Wien 1040;X-APPLE-RADIUS=500;X-TITLE=Heumühlgasse 14:geo:16.3617969,48.1961598
END:VEVENT
END:VCALENDAR