BEGIN:VCALENDAR
VERSION:2.0
PRODID:-//Homosexuelle Initiative (HOSI) Wien - ECPv5.16.4//NONSGML v1.0//EN
CALSCALE:GREGORIAN
METHOD:PUBLISH
X-WR-CALNAME:Homosexuelle Initiative (HOSI) Wien
X-ORIGINAL-URL:https://archiv.hosiwien.at
X-WR-CALDESC:Events for Homosexuelle Initiative (HOSI) Wien
REFRESH-INTERVAL;VALUE=DURATION:PT1H
X-Robots-Tag:noindex
X-PUBLISHED-TTL:PT1H
BEGIN:VTIMEZONE
TZID:Europe/Vienna
BEGIN:DAYLIGHT
TZOFFSETFROM:+0100
TZOFFSETTO:+0200
TZNAME:CEST
DTSTART:20240331T010000
END:DAYLIGHT
BEGIN:STANDARD
TZOFFSETFROM:+0200
TZOFFSETTO:+0100
TZNAME:CET
DTSTART:20241027T010000
END:STANDARD
END:VTIMEZONE
BEGIN:VEVENT
DTSTART;TZID=Europe/Vienna:20240122T190000
DTEND;TZID=Europe/Vienna:20240122T213000
DTSTAMP:20260422T231921
CREATED:20231108T134251Z
LAST-MODIFIED:20231108T134345Z
UID:96881-1705950000-1705959000@archiv.hosiwien.at
SUMMARY:Mitarbeiter*innen Informationsabend zum Wiener Regenbogenball
DESCRIPTION:Die ehrenamtlichen Mitarbeiter*innen des Wiener Regenbogenballs (27.01.2024) bekommen an diesem Abend alle wichtigen Informationen. \nDu möchtest auch dabei sein? Hier hast du alle Informationen und die Möglichkeit zur Anmeldung: Mitarbeiter*innen (regenbogenball.at)
URL:https://archiv.hosiwien.at/event/mitarbeiterinnen-informationsabend-zum-wiener-regenbogenball/
LOCATION:Gugg\, Heumühlgasse 14\, Wien\, 1040
CATEGORIES:Regenbogenball
ORGANIZER;CN="HOSI%20Wien":MAILTO:office@archiv.hosiwien.at
GEO:48.1961598;16.3617969
X-APPLE-STRUCTURED-LOCATION;VALUE=URI;X-ADDRESS=Gugg Heumühlgasse 14 Wien 1040;X-APPLE-RADIUS=500;X-TITLE=Heumühlgasse 14:geo:16.3617969,48.1961598
END:VEVENT
END:VCALENDAR