BEGIN:VCALENDAR
VERSION:2.0
PRODID:-//Homosexuelle Initiative (HOSI) Wien - ECPv5.16.4//NONSGML v1.0//EN
CALSCALE:GREGORIAN
METHOD:PUBLISH
X-ORIGINAL-URL:https://archiv.hosiwien.at
X-WR-CALDESC:Events for Homosexuelle Initiative (HOSI) Wien
REFRESH-INTERVAL;VALUE=DURATION:PT1H
X-Robots-Tag:noindex
X-PUBLISHED-TTL:PT1H
BEGIN:VTIMEZONE
TZID:Europe/Vienna
BEGIN:DAYLIGHT
TZOFFSETFROM:+0100
TZOFFSETTO:+0200
TZNAME:CEST
DTSTART:20240331T010000
END:DAYLIGHT
BEGIN:STANDARD
TZOFFSETFROM:+0200
TZOFFSETTO:+0100
TZNAME:CET
DTSTART:20241027T010000
END:STANDARD
END:VTIMEZONE
BEGIN:VEVENT
DTSTART;VALUE=DATE:20240127
DTEND;VALUE=DATE:20240129
DTSTAMP:20260422T215809
CREATED:20231019T084901Z
LAST-MODIFIED:20231019T085825Z
UID:96782-1706331600-1706417999@archiv.hosiwien.at
SUMMARY:26. Wiener Regenbogenball
DESCRIPTION:Der Wiener Regenbogenball geht am 27. Jänner 2024 im Austria Trend Parkhotel Schönbrunn in seine nächste Runde. Dabei feiern wir gemeinsam mit der LGBTIQ-Community Vielfalt in all ihren Facetten – und das alles für einen guten Zweck. \nwww.regenbogenball.at
URL:https://archiv.hosiwien.at/event/26-wiener-regenbogenball/
LOCATION:Parkhotel Schönbrunn\, Hietzinger Hauptstr. 10-14\, Wien\, 1130\, Österreich
CATEGORIES:kulturelle Veranstaltung,Regenbogenball
ATTACH;FMTTYPE=image/png:https://archiv.hosiwien.at/img/image/2023/Sujet-RBB-2023-v2.png
ORGANIZER;CN="HOSI%20Wien":MAILTO:office@archiv.hosiwien.at
GEO:48.1872566;16.3034331
X-APPLE-STRUCTURED-LOCATION;VALUE=URI;X-ADDRESS=Parkhotel Schönbrunn Hietzinger Hauptstr. 10-14 Wien 1130 Österreich;X-APPLE-RADIUS=500;X-TITLE=Hietzinger Hauptstr. 10-14:geo:16.3034331,48.1872566
END:VEVENT
END:VCALENDAR