BEGIN:VCALENDAR
VERSION:2.0
PRODID:-//Homosexuelle Initiative (HOSI) Wien - ECPv5.16.4//NONSGML v1.0//EN
CALSCALE:GREGORIAN
METHOD:PUBLISH
X-ORIGINAL-URL:https://archiv.hosiwien.at
X-WR-CALDESC:Events for Homosexuelle Initiative (HOSI) Wien
REFRESH-INTERVAL;VALUE=DURATION:PT1H
X-Robots-Tag:noindex
X-PUBLISHED-TTL:PT1H
BEGIN:VTIMEZONE
TZID:Europe/Vienna
BEGIN:DAYLIGHT
TZOFFSETFROM:+0100
TZOFFSETTO:+0200
TZNAME:CEST
DTSTART:20240331T010000
END:DAYLIGHT
BEGIN:STANDARD
TZOFFSETFROM:+0200
TZOFFSETTO:+0100
TZNAME:CET
DTSTART:20241027T010000
END:STANDARD
END:VTIMEZONE
BEGIN:VEVENT
DTSTART;TZID=Europe/Vienna:20240202T170000
DTEND;TZID=Europe/Vienna:20240202T220000
DTSTAMP:20260422T191412
CREATED:20240122T153800Z
LAST-MODIFIED:20240122T153859Z
UID:97799-1706893200-1706911200@archiv.hosiwien.at
SUMMARY:Generationencafé - LGBTIQ-Geschichten in Wien
DESCRIPTION:Die LGBTIQ-Community in Wien blickt auf eine lange Geschichte zurück\, die geprägt ist durch Kämpfe um Akzeptanz\, rechtliche Gleichstellung und gesellschaftliche Teilhabe. Insbesondere seit den 1970ern hat sich in der Hauptstadt einiges getan. \nIm Projekt „LGBTIQ-Geschichten in Wien“ soll ein Beitrag zur Dokumentation der Wiener LGBTIQ-Bewegungsgeschichte gelegt werden\, mit einem Fokus auf die zweite Hälfte des 20. Jahrhunderts. Hierzu wurden spannende Gespräche mit neun LGBTIQ-Aktivist:innen zu ihrem Leben und ihrem Engagement in der Community geführt. Diese findet ihr ab sofort auf unserem Youtube-Kanal – viel Spaß beim Stöbern! \nhttps://www.youtube.com/@IKF_Wien/
URL:https://archiv.hosiwien.at/event/generationencafe-lgbtiq-geschichten-in-wien/
LOCATION:Gugg\, Heumühlgasse 14\, Wien\, 1040
CATEGORIES:Information
ATTACH;FMTTYPE=image/jpeg:https://archiv.hosiwien.at/img/image/2024/Projektplakat_hosi.jpg
GEO:48.1961598;16.3617969
X-APPLE-STRUCTURED-LOCATION;VALUE=URI;X-ADDRESS=Gugg Heumühlgasse 14 Wien 1040;X-APPLE-RADIUS=500;X-TITLE=Heumühlgasse 14:geo:16.3617969,48.1961598
END:VEVENT
END:VCALENDAR