BEGIN:VCALENDAR
VERSION:2.0
PRODID:-//Homosexuelle Initiative (HOSI) Wien - ECPv5.16.4//NONSGML v1.0//EN
CALSCALE:GREGORIAN
METHOD:PUBLISH
X-WR-CALNAME:Homosexuelle Initiative (HOSI) Wien
X-ORIGINAL-URL:https://archiv.hosiwien.at
X-WR-CALDESC:Events for Homosexuelle Initiative (HOSI) Wien
REFRESH-INTERVAL;VALUE=DURATION:PT1H
X-Robots-Tag:noindex
X-PUBLISHED-TTL:PT1H
BEGIN:VTIMEZONE
TZID:Europe/Vienna
BEGIN:DAYLIGHT
TZOFFSETFROM:+0100
TZOFFSETTO:+0200
TZNAME:CEST
DTSTART:20240331T010000
END:DAYLIGHT
BEGIN:STANDARD
TZOFFSETFROM:+0200
TZOFFSETTO:+0100
TZNAME:CET
DTSTART:20241027T010000
END:STANDARD
END:VTIMEZONE
BEGIN:VEVENT
DTSTART;TZID=Europe/Vienna:20240212T190000
DTEND;TZID=Europe/Vienna:20240212T233000
DTSTAMP:20260423T003945
CREATED:20231106T095239Z
LAST-MODIFIED:20231106T095320Z
UID:96879-1707764400-1707780600@archiv.hosiwien.at
SUMMARY:Gays and Theys – Comedy
DESCRIPTION:Details for the show are to be announced soon. Stay tuned! \nGays and Theys – Comedy is a project by Aislinn Kane\, Lin Riva and Emily Thornhill.
URL:https://archiv.hosiwien.at/event/gays-and-theys-comedy-15/2024-02-12/
LOCATION:Gugg\, Heumühlgasse 14\, Wien\, 1040
CATEGORIES:cultural event
ATTACH;FMTTYPE=image/jpeg:https://archiv.hosiwien.at/img/image/2022/Gays-and-Theys-Comedy-Logo.jpg
GEO:48.1961598;16.3617969
X-APPLE-STRUCTURED-LOCATION;VALUE=URI;X-ADDRESS=Gugg Heumühlgasse 14 Wien 1040;X-APPLE-RADIUS=500;X-TITLE=Heumühlgasse 14:geo:16.3617969,48.1961598
END:VEVENT
END:VCALENDAR