BEGIN:VCALENDAR
VERSION:2.0
PRODID:-//Homosexuelle Initiative (HOSI) Wien - ECPv5.16.4//NONSGML v1.0//EN
CALSCALE:GREGORIAN
METHOD:PUBLISH
X-WR-CALNAME:Homosexuelle Initiative (HOSI) Wien
X-ORIGINAL-URL:https://archiv.hosiwien.at
X-WR-CALDESC:Events for Homosexuelle Initiative (HOSI) Wien
REFRESH-INTERVAL;VALUE=DURATION:PT1H
X-Robots-Tag:noindex
X-PUBLISHED-TTL:PT1H
BEGIN:VTIMEZONE
TZID:Europe/Vienna
BEGIN:DAYLIGHT
TZOFFSETFROM:+0100
TZOFFSETTO:+0200
TZNAME:CEST
DTSTART:20240331T010000
END:DAYLIGHT
BEGIN:STANDARD
TZOFFSETFROM:+0200
TZOFFSETTO:+0100
TZNAME:CET
DTSTART:20241027T010000
END:STANDARD
END:VTIMEZONE
BEGIN:VEVENT
DTSTART;TZID=Europe/Vienna:20240213T190000
DTEND;TZID=Europe/Vienna:20240213T230000
DTSTAMP:20260422T232321
CREATED:20240201T135053Z
LAST-MODIFIED:20240207T124225Z
UID:97839-1707850800-1707865200@archiv.hosiwien.at
SUMMARY:HOSI Kennenlern-Abend
DESCRIPTION:Was tut die HOSI Wien und wie kann ich mich engagieren?\nDiese Frage beantworten dir zahlreiche Aktivist*innen der HOSI am 13.02. ab 19:00 Uhr im Gugg.\nDie HOSI hat viele unterschiedliche Arbeitsgruppen\, die sich mit den verschiedensten Themen der LGBTIQ-Community auseinandersetzen. Von der Mitarbeit bei der Regenbogenparade\, der QYVIE Jugendgruppe bis zu unserer Vereinszeitschrift LAMBDA ist alles möglich. \nKomm vorbei! Wir freuen uns darauf dich kennenzulernen und vielleicht bist auch du bald ein Mitglied in einem unserer Teams! \nHOSI Wien Kennenlern-Abend\n13.02.2024\, 19:00 Uhr\nDas Gugg\, Heumühlgasse 14/1\, 1040 Wien
URL:https://archiv.hosiwien.at/event/hosi-kennelernabend/
LOCATION:Gugg\, Heumühlgasse 14\, Wien\, 1040
CATEGORIES:Infoveranstaltung
ATTACH;FMTTYPE=image/jpeg:https://archiv.hosiwien.at/img/image/2024/HOSI-Kennenlern-Abend.jpg
GEO:48.1961598;16.3617969
X-APPLE-STRUCTURED-LOCATION;VALUE=URI;X-ADDRESS=Gugg Heumühlgasse 14 Wien 1040;X-APPLE-RADIUS=500;X-TITLE=Heumühlgasse 14:geo:16.3617969,48.1961598
END:VEVENT
END:VCALENDAR