BEGIN:VCALENDAR
VERSION:2.0
PRODID:-//Homosexuelle Initiative (HOSI) Wien - ECPv5.16.4//NONSGML v1.0//EN
CALSCALE:GREGORIAN
METHOD:PUBLISH
X-ORIGINAL-URL:https://archiv.hosiwien.at
X-WR-CALDESC:Events for Homosexuelle Initiative (HOSI) Wien
REFRESH-INTERVAL;VALUE=DURATION:PT1H
X-Robots-Tag:noindex
X-PUBLISHED-TTL:PT1H
BEGIN:VTIMEZONE
TZID:Europe/Vienna
BEGIN:DAYLIGHT
TZOFFSETFROM:+0100
TZOFFSETTO:+0200
TZNAME:CEST
DTSTART:20240331T010000
END:DAYLIGHT
BEGIN:STANDARD
TZOFFSETFROM:+0200
TZOFFSETTO:+0100
TZNAME:CET
DTSTART:20241027T010000
END:STANDARD
END:VTIMEZONE
BEGIN:VEVENT
DTSTART;TZID=Europe/Vienna:20240315T193000
DTEND;TZID=Europe/Vienna:20240315T223000
DTSTAMP:20260423T003641
CREATED:20240208T145651Z
LAST-MODIFIED:20240301T124143Z
UID:97900-1710531000-1710541800@archiv.hosiwien.at
SUMMARY:The HOSIsters "Wien*Babylon"
DESCRIPTION:The HOSIsters rocken die Twenties! \nKrisen\, K(r)ampf und keine Kröten – das gab’s auch schon vor hundert Jahren! Schnallt Euch an und die Gürtel enger: Mit den HOSIsters geht es nach „Wien*Babylon“! \nDie Showtruppe der HOSI Wien liefert das Unzeitstück zur aktuellen Lage. The Twenties are back! Im Spiegel der Röhrenden Zwanziger erkennen wir uns deutlicher wieder\, als es uns lieb sein kann. Statt vorwärts geht es rückwärts\, statt aufwärts munter abwärts. Dabei stets en vogue und allgegenwärtig in der Donaunekropole: K. u. K.\, die Korrupten und Kriminellen. So tummeln sich in der neuen Show die kleinen Gauner\, die großen Verbrecher\, die leichten Madeln und die schweren Burschen. \nDa soll sich das sündig-intrigante Babylon Berlin anstrengen\, wie es will\, vom schmierig-korrupten Wien Babylon kann es noch was lernen. Durchmogeln heißt die Devise\, Gesetze sind zum Brechen da\, die Zeche soll’n die andern zahlen. Alle für sich und die Zeit gegen alle. \nSo folgt auf den Höhenrausch im Riesenrad der harte Absturz – wenn auch nicht in die Kanalisation\, so doch in ein Endlager der besonderen Art. Aber zum Happy End ist der Zeitgeist dann doch gnädig\, einmal noch entkommen unsere Figuren und Figurinen ihrem dräuenden Schicksal\, aber wer weiß\, für wie lange. Der Schoß ist fruchtbar schon… \nIm Gugg erwartet Euch ab dem 15. März 2024 das neue vor-österliche Überraschungsei der HOSIsters mit Spiel\, Spaß und Singsang in „Wien*Babylon“. Musikalisch spannt sich der Bogen vom Früchtecocktail mit gelber Krümmung über den Lieblingssong aller Manischen bis hin zum Inspektor\, den es bekanntlich nicht gibt – so wie die Sterne über einer antiken Hauptstadt. \nAuf der Bühne mit dabei: Doris Bernsteiner\, Benjamin Malfatti\, Gerd-Peter Mitterecker (Text)\, Dagmar Rothbauer\, Harald Schatzer\, Angelika Stark\, René Wagner (musikalische Leitung) and introducing Katarzyna Bartnik\, Sami Rais Chaabane und Gregor Sobczak. In einer Gastrolle zu hören Anton Spenger. Webauftritt und Kartenshop werden betreut von Karl Kreipel. \n\nPREMIERE\n\nFreitag\, 15. März 2024\, 19:30 Uhr\n\nWEITERE VORSTELLUNGEN:\n\nSamstag\, 16. März 2024\, 19:30 Uhr\nSonntag\, 17. März 2024\, 18:00 Uhr\nFreitag\, 22. März 2024\, 19:30 Uhr\nSamstag\, 23. März 2024\, 19:30 Uhr\nSonntag\, 24. März 2024\, 18:00 Uhr\n\nTickets:\nDer Vorverkauf startet am Montag\, 12.02.2024\, ab 08:00 Uhr ausschließlich im Webshop. \nKartenpreise:\n\nNormalpreis: € 23\,00\nHOSI Wien Mitglieder: € 21\,00\n\n\n\n\n\n\nDie neue Produktion widmen wir\nunserer HOSIster Gerald Schneider!\nDu fehlst uns!
URL:https://archiv.hosiwien.at/event/the-hosisters-wienbabylon/2024-03-15/
LOCATION:Gugg\, Heumühlgasse 14\, Wien\, 1040
CATEGORIES:kulturelle Veranstaltung
GEO:48.1961598;16.3617969
X-APPLE-STRUCTURED-LOCATION;VALUE=URI;X-ADDRESS=Gugg Heumühlgasse 14 Wien 1040;X-APPLE-RADIUS=500;X-TITLE=Heumühlgasse 14:geo:16.3617969,48.1961598
END:VEVENT
END:VCALENDAR