BEGIN:VCALENDAR
VERSION:2.0
PRODID:-//Homosexuelle Initiative (HOSI) Wien - ECPv5.16.4//NONSGML v1.0//EN
CALSCALE:GREGORIAN
METHOD:PUBLISH
X-WR-CALNAME:Homosexuelle Initiative (HOSI) Wien
X-ORIGINAL-URL:https://archiv.hosiwien.at
X-WR-CALDESC:Events for Homosexuelle Initiative (HOSI) Wien
REFRESH-INTERVAL;VALUE=DURATION:PT1H
X-Robots-Tag:noindex
X-PUBLISHED-TTL:PT1H
BEGIN:VTIMEZONE
TZID:Europe/Vienna
BEGIN:DAYLIGHT
TZOFFSETFROM:+0100
TZOFFSETTO:+0200
TZNAME:CEST
DTSTART:20240331T010000
END:DAYLIGHT
BEGIN:STANDARD
TZOFFSETFROM:+0200
TZOFFSETTO:+0100
TZNAME:CET
DTSTART:20241027T010000
END:STANDARD
END:VTIMEZONE
BEGIN:VEVENT
DTSTART;TZID=Europe/Vienna:20240415T193000
DTEND;TZID=Europe/Vienna:20240415T230000
DTSTAMP:20260423T060733
CREATED:20231218T115634Z
LAST-MODIFIED:20231218T115634Z
UID:97491-1713209400-1713222000@archiv.hosiwien.at
SUMMARY:Salon Blau
DESCRIPTION:Tauche ein in die Welt von Travestie und Drag! Bei der monatlichen Show im Vereinszentrum Gugg erwarten dich neben den buntesten Performances der Wiener Drag Szene auch Einblicke in den Verein HOSI Wien. Neben Frau Blau treten regelmäßig extra für dich ausgewählte Gäst*innen mit Performances aus ihren eigenen Programmen auf. Jeden Monat wird dabei ein anderes Projekt\, oder eine Arbeitsgruppe\, der HOSI Wien vorgestellt. Passend dazu\, finden die Termine immer unter einem bestimmten Motto statt\, warte also nicht zu lange! Wenn du diese Kunstform erleben möchtest\, oder mehr über den Verein HOSI Wien erfahren willst\, komm zu einem der  Termine um 19:30 Uhr ins Community Center Gugg (Heumühlgasse 14/1\, 1040 Wien). Eintritt gegen freie Spende.
URL:https://archiv.hosiwien.at/event/salon-blau/2024-04-15/
LOCATION:Gugg\, Heumühlgasse 14\, Wien\, 1040
CATEGORIES:kulturelle Veranstaltung
ATTACH;FMTTYPE=image/png:https://archiv.hosiwien.at/img/image/2023/Salon-Blau-hochkant-cropped-right.png
ORGANIZER;CN="HOSI%20Wien":MAILTO:office@archiv.hosiwien.at
GEO:48.1961598;16.3617969
X-APPLE-STRUCTURED-LOCATION;VALUE=URI;X-ADDRESS=Gugg Heumühlgasse 14 Wien 1040;X-APPLE-RADIUS=500;X-TITLE=Heumühlgasse 14:geo:16.3617969,48.1961598
END:VEVENT
END:VCALENDAR